BEGIN:VCALENDAR
VERSION:2.0
PRODID:-//ChamberMaster//Event Calendar 2.0//EN
METHOD:PUBLISH
X-PUBLISHED-TTL:P3D
REFRESH-INTERVAL:P3D
CALSCALE:GREGORIAN
BEGIN:VEVENT
DTSTART;VALUE=DATE:20220302
DTEND;VALUE=DATE:20220401
TRANSP:TRANSPARENT
X-MICROSOFT-CDO-ALLDAYEVENT:TRUE
SUMMARY:Central Ozark Conference Art Exhibit at The Longwell Museum
DESCRIPTION:Crowder College Longwell Museum hosts the Central Ozark Conference Art Exhibit March 2 - 31 with a closing reception being held March 31\, 5pm - 7pm. The exhibit features artwork from Carl Junction\, Carthage\, Joplin\, Neosho and Webb City high schools. Free and open to the public\, Longwell Museum is open Monday - Friday 9am - 6pm (with the exception of holidays).
X-ALT-DESC;FMTTYPE=text/html:<span style="background-color:rgb(250\, 250\, 250)\; color:rgb(66\, 66\, 66)\; font-family:arial\,helvetica\,sans-serif\; font-size:12px">Crowder College Longwell Museum hosts the Central Ozark Conference Art Exhibit March 2 - 31 with a closing reception being held March 31\, 5pm - 7pm. The exhibit features artwork from Carl Junction\, Carthage\, Joplin\, Neosho and Webb City high schools. Free and open to the public\, Longwell Museum is open Monday - Friday 9am - 6pm (with the exception of holidays).&nbsp\;</span>
LOCATION:Crowder College Longwell Museum Elsie Plaster Community Center 601 Laclede Ave.\, Neosho\, MO 64850
UID:e.2144.8227
SEQUENCE:3
DTSTAMP:20260424T061136Z
URL:https://neoshocc.com/events/details/central-ozark-conference-art-exhibit-at-the-longwell-museum-03-02-2022-8227
END:VEVENT

END:VCALENDAR
