BEGIN:VCALENDAR
VERSION:2.0
PRODID:-//ChamberMaster//Event Calendar 2.0//EN
METHOD:PUBLISH
X-PUBLISHED-TTL:P3D
REFRESH-INTERVAL:P3D
CALSCALE:GREGORIAN
BEGIN:VEVENT
DTSTART;VALUE=DATE:20210903
DTEND;VALUE=DATE:20211015
TRANSP:TRANSPARENT
X-MICROSOFT-CDO-ALLDAYEVENT:TRUE
SUMMARY:Celebrate the Arts S'More
DESCRIPTION:Celebrate the Arts S'More\n\nFunds raised go to the Mural Restoration Project\n\n\n\nS'mores for the arts kit includes everything you need to make four s'mores. Plus a fleece picnic blanket with carry handle and waterproof backing.\n\n\n\nOrder now at neoshoarts.net\n\n\n\nKits can be delivered in the Neosho area\n\nor\n\nPick up during Live Music in Big Spring Park on Oct. 14 and enjoy making s'mores in the park. Featuring live music by Amanda Kimble and Mary Porzelt.\n\n\n\n\n\n\n\nThank you First Community Bank\, Freeman Health System\, Southwest Missouri Bank\, Cactus Creek Boutique\, Coley's Cookie Co.\, and Mitchell's Drug Stores for supporting the arts in our community!
X-ALT-DESC;FMTTYPE=text/html:Celebrate the Arts S&#39\;More<br />\nFunds raised go to the Mural Restoration Project<br />\n<br />\nS&#39\;mores for the arts kit includes everything you need to make four s&#39\;mores. Plus a fleece picnic blanket with carry handle and waterproof backing.<br />\n<br />\nOrder now at neoshoarts.net<br />\n<br />\nKits can be delivered in the Neosho area<br />\nor<br />\nPick up during Live Music in Big Spring Park on Oct. 14 and enjoy making s&#39\;mores in the park. Featuring live music by Amanda Kimble and Mary Porzelt.<br />\n<br />\n<br />\n<br />\nThank you First Community Bank\, Freeman Health System\, Southwest Missouri Bank\, Cactus Creek Boutique\, Coley&#39\;s Cookie Co.\, and Mitchell&#39\;s Drug Stores for supporting the arts in our community!
LOCATION:neoshoarts.net
UID:e.2144.7875
SEQUENCE:3
DTSTAMP:20260423T193259Z
URL:https://neoshocc.com/events/details/celebrate-the-arts-s-more-7875
END:VEVENT

END:VCALENDAR
