BEGIN:VCALENDAR
VERSION:2.0
PRODID:-//ChamberMaster//Event Calendar 2.0//EN
METHOD:PUBLISH
X-PUBLISHED-TTL:P3D
REFRESH-INTERVAL:P3D
CALSCALE:GREGORIAN
BEGIN:VEVENT
DTSTART;VALUE=DATE:20190629
DTEND;VALUE=DATE:20190630
TRANSP:TRANSPARENT
X-MICROSOFT-CDO-ALLDAYEVENT:TRUE
SUMMARY:Celebrate! Neosho 2019
DESCRIPTION:06/27/2019 UPDATE: Celebrate! Neosho 2019 is a GO!\, and it's moving to the SQUARE!\nDue to Sunday's flooding and the resulting damage to Morse Park and nearby neighborhoods\, ALL of the scheduled Celebrate activities have been relocated to the courthouse square!\n\nSo\, the Cornhole Tournament\, Kids Amusements\, Food Trucks\, Live Music\, Duck Race\, Bicycle Pump Track\, and more will be joining the Cruise-in\, Art Alley\, Military/Emergency Vehicle Display\, and Farmers Market that were already happening on and around the square.\n\n\nThe published schedule of times for individual activities will remain the same\, and the fireworks are still being launched from the safety of Morse Park\, though they will need to be viewed from areas outside of the park\, in and around downtown\, surrounding neighborhoods\, etc.\n\n\n\n\n\nJoin the community of Neosho as we celebrate independence\, heroes\, family\, neighbors\, the outdoors\, the arts\, and all things wonderful about our little corner of the Ozarks.\n\n\n\nWith day-long festivities returning to their downtown roots\, this year's fun will take place on and around the Historic Downtown Neosho Courthouse Square.\n\n\n\nActivities include live\, family-friendly music\, food trucks\, carnival games\, military and emergency services exhibits\, outdoor games and tournaments\, kids games and activities\, regional art exhibits and vendors and much\, much more.\n\n\n\nAnd\, of course\, a spectacular fireworks display at dark.\n\n\n\nMore details coming soon! There's plenty of room for everyone!
X-ALT-DESC;FMTTYPE=text/html:<span style="font-size:16px\;"><span style="color: rgb(29\, 33\, 41)\; font-family: Helvetica\, Arial\, sans-serif\; white-space: pre-wrap\;"><strong>06/27/2019 UPDATE:</strong> </span><em><a class="profileLink" data-hovercard="/ajax/hovercard/event.php?id=295212874756248&amp\;extragetparams=%7B%22source%22%3A3%2C%22source_newsfeed_story_type%22%3A%22regular%22%2C%22action_history%22%3A%22%5B%7B%5C%22surface%5C%22%3A%5C%22newsfeed%5C%22%2C%5C%22mechanism%5C%22%3A%5C%22feed_story%5C%22%2C%5C%22extra_data%5C%22%3A%5B%5D%7D%5D%22%2C%22has_source%22%3Atrue%2C%22__tn__%22%3A%22%2CdK-R-R%22%2C%22eid%22%3A%22ARDTbbjwyqzUFO5yWCnHJTnQ2Cvy9ZlPeysctZnrXm52favbCwwf9jCZYFBkjK7wanAMiEoxYc8giwcH%22%2C%22fref%22%3A%22mentions%22%7D" data-hovercard-prefer-more-content-show="1" href="https://www.facebook.com/events/295212874756248/?acontext=%7B%22source%22%3A3%2C%22source_newsfeed_story_type%22%3A%22regular%22%2C%22action_history%22%3A%22%5B%7B%5C%22surface%5C%22%3A%5C%22newsfeed%5C%22%2C%5C%22mechanism%5C%22%3A%5C%22feed_story%5C%22%2C%5C%22extra_data%5C%22%3A%5B%5D%7D%5D%22%2C%22has_source%22%3Atrue%7D&amp\;source=3&amp\;source_newsfeed_story_type=regular&amp\;action_history=%5B%7B%22surface%22%3A%22newsfeed%22%2C%22mechanism%22%3A%22feed_story%22%2C%22extra_data%22%3A%5B%5D%7D%5D&amp\;has_source=1&amp\;__tn__=K-R&amp\;eid=ARDTbbjwyqzUFO5yWCnHJTnQ2Cvy9ZlPeysctZnrXm52favbCwwf9jCZYFBkjK7wanAMiEoxYc8giwcH&amp\;fref=mentions&amp\;__xts__%5B0%5D=68.ARBsFiqQL1zzSKYaIAueXv1TFQTRQ0Iq4KNUwECr-_GMHN9Q-ZJbcJBvLRVleab83JgEDMQ-vb_GGI3W0c-9icJcabNp-KbujfmUlQSXdQXFBRAZOrS_Jru5Wi1_oLxarZA66wlvpTo5k2uMRn3yD8f_CD7KUzp9CBCLCS5zbsdml1cjE8bnbGh559Oqy6iOEf7ZkYBm47jKdPLyjfw4K9OvZoiQQ2QlMih68RKpnXZOBlybYd2BE6Vq8kZC5tLWvwnrwtCQaE1LQAzSd8eA7H3UOdBIug5fX_4WwvKn9DUfIk77P8j427I6VpmBkSXl3hO3tAEEwpjABH8bytG7MN9EXg" style="font-family: inherit\; font-size: 14px\; color: rgb(56\, 88\, 152)\; cursor: pointer\; text-decoration-line: none\;">Celebrate! Neosho 2019</a><span style="color: rgb(28\, 30\, 33)\; font-family: Helvetica\, Arial\, sans-serif\;">&nbsp\;is a GO!\, and it&#39\;s moving to the SQUARE!</span></em></span>\n<p style="margin: 6px 0px\; font-family: Helvetica\, Arial\, sans-serif\; color: rgb(28\, 30\, 33)\; font-size: 14px\;"><span style="font-size:16px\;"><em>Due to Sunday&#39\;s flooding and the resulting damage to Morse Park and nearby neighborhoods\, ALL of the scheduled Celebrate activities have been relocated to the courthouse square!</em></span></p>\n\n<p style="margin: 6px 0px\; font-family: Helvetica\, Arial\, sans-serif\; color: rgb(28\, 30\, 33)\; font-size: 14px\;"><span style="font-size:16px\;"><em>So\, the Cornhole Tournament\, Kids Amusements\, Food Trucks\, Live Music\, Duck Race\, Bicycle Pump Track\, and more will be joining the Cruise-in\, Art Alley\, Military/Emergency Vehicle Display\, and Farmers Market that were already happening on<span class="text_exposed_show" style="display: inline\; font-family: inherit\;">&nbsp\;and around the square.</span></em></span></p>\n\n<div class="text_exposed_show" style="display: inline\; font-family: Helvetica\, Arial\, sans-serif\; color: rgb(28\, 30\, 33)\; font-size: 14px\;">\n<p style="margin: 0px 0px 6px\; font-family: inherit\;"><span style="font-size:16px\;"><em>The published schedule of times for individual activities will remain the same\, and the fireworks are still being launched from the safety of Morse Park\, though they will need to be viewed from areas outside of the park\, in and around downtown\, surrounding neighborhoods\, etc.</em></span></p>\n</div>\n<br />\n<br />\n<span style="color: rgb(29\, 33\, 41)\; font-family: Helvetica\, Arial\, sans-serif\; font-size: 14px\; white-space: pre-wrap\;">Join the community of Neosho as we celebrate independence\, heroes\, family\, neighbors\, the outdoors\, the arts\, and all things wonderful about our little corner of the Ozarks.</span><br style="color: rgb(29\, 33\, 41)\; font-family: Helvetica\, Arial\, sans-serif\; font-size: 14px\; white-space: pre-wrap\;" />\n<br style="color: rgb(29\, 33\, 41)\; font-family: Helvetica\, Arial\, sans-serif\; font-size: 14px\; white-space: pre-wrap\;" />\n<span style="color: rgb(29\, 33\, 41)\; font-family: Helvetica\, Arial\, sans-serif\; font-size: 14px\; white-space: pre-wrap\;">With day-long festivities returning to their downtown roots\, this year&#39\;s fun will take place on and around the Historic Downtown Neosho Courthouse Square.</span><br />\n<br style="color: rgb(29\, 33\, 41)\; font-family: Helvetica\, Arial\, sans-serif\; font-size: 14px\; white-space: pre-wrap\;" />\n<span style="color: rgb(29\, 33\, 41)\; font-family: Helvetica\, Arial\, sans-serif\; font-size: 14px\; white-space: pre-wrap\;">Activities include live\, family-friendly music\, food trucks\, carnival games\, military and emergency services exhibits\, outdoor games and tournaments\, kids games and activities\, regional art exhibits and vendors and much\, much more.</span><br style="color: rgb(29\, 33\, 41)\; font-family: Helvetica\, Arial\, sans-serif\; font-size: 14px\; white-space: pre-wrap\;" />\n<br style="color: rgb(29\, 33\, 41)\; font-family: Helvetica\, Arial\, sans-serif\; font-size: 14px\; white-space: pre-wrap\;" />\n<span style="color: rgb(29\, 33\, 41)\; font-family: Helvetica\, Arial\, sans-serif\; font-size: 14px\; white-space: pre-wrap\;">And\, of course\, a spectacular fireworks display at dark.</span><br style="color: rgb(29\, 33\, 41)\; font-family: Helvetica\, Arial\, sans-serif\; font-size: 14px\; white-space: pre-wrap\;" />\n<br style="color: rgb(29\, 33\, 41)\; font-family: Helvetica\, Arial\, sans-serif\; font-size: 14px\; white-space: pre-wrap\;" />\n<span style="color: rgb(29\, 33\, 41)\; font-family: Helvetica\, Arial\, sans-serif\; font-size: 14px\; white-space: pre-wrap\;">More details coming soon! </span><span style="color: rgb(29\, 33\, 41)\; font-family: Helvetica\, Arial\, sans-serif\; font-size: 14px\; white-space: pre-wrap\;">There&#39\;s plenty of room for everyone!</span>
LOCATION:Historic Downtown Neosho Courthouse Square
UID:e.2144.2544
SEQUENCE:3
DTSTAMP:20260424T002219Z
URL:https://neoshocc.com/events/details/celebrate-neosho-2019-2544
END:VEVENT

END:VCALENDAR
