BEGIN:VCALENDAR
VERSION:2.0
PRODID:-//ChamberMaster//Event Calendar 2.0//EN
METHOD:PUBLISH
X-PUBLISHED-TTL:P3D
REFRESH-INTERVAL:P3D
CALSCALE:GREGORIAN
BEGIN:VEVENT
DTSTART:20260627T210000Z
DTEND:20260628T030000Z
X-MICROSOFT-CDO-ALLDAYEVENT:FALSE
SUMMARY:Celebrate Neosho
DESCRIPTION:Celebrate Neosho   A Weekend Full of FUN!   \n\nGet ready\, Neosho! One of our favorite community traditions is back   Celebrate Neosho is packed with activities\, entertainment\, and hometown pride for all ages. This is the kind of weekend that reminds us just how special our community is!  \n\nHere's just a taste of what you can expect:\n\n  Live Music & Entertainment   Enjoy performances from talented artists that will keep the energy going all weekend long.\n\n  Food Vendors Galore   From classic fair favorites to local eats\, come hungry and ready to indulge!\n\n  Craft & Vendor Booths   Shop unique items\, support small businesses\, and find one-of-a-kind treasures.\n\n  Family-Friendly Fun   Activities for kids\, games\, inflatables\, and plenty to keep the whole family smiling.\n\n  Car Show   Check out incredible vehicles and meet fellow car enthusiasts.\n\n  Fireworks Show   End the night with a bang as the sky lights up over Neosho!\n\n  Parade   Don't miss this community favorite filled with floats\, local groups\, and lots of hometown spirit.\n\n  Community Spirit Everywhere   From friendly faces to shared laughter\, this weekend is all about coming together and celebrating what makes Neosho home.\n\n  Mark your calendars and make plans to attend!\n\nWhether you come for the food\, the music\, the shopping\, or just to soak in the atmosphere   there's something for everyone at Celebrate Neosho!\n\n#CelebrateNeosho #NeoshoMO #CommunityStrong #SupportLocal #ShopLocal #FamilyFun
X-ALT-DESC;FMTTYPE=text/html:<p data-end="57" data-start="0">&#127881\;&#127775\; <strong data-end="50" data-start="5">Celebrate Neosho &mdash\; A Weekend Full of FUN!</strong> &#127775\;&#127881\;</p>\n\n<p data-end="308" data-start="59">Get ready\, Neosho! One of our favorite community traditions is back &mdash\; <strong data-end="149" data-start="129">Celebrate Neosho</strong> is packed with activities\, entertainment\, and hometown pride for all ages. This is the kind of weekend that reminds us just how special our community is! &#128155\;</p>\n\n<p data-end="355" data-start="310">Here&rsquo\;s just a taste of what you can expect:</p>\n\n<p data-end="485" data-start="357">&#127926\; <strong data-end="390" data-start="360">Live Music &amp\; Entertainment</strong> &mdash\; Enjoy performances from talented artists that will keep the energy going all weekend long.</p>\n\n<p data-end="594" data-start="487">&#127828\; <strong data-end="513" data-start="490">Food Vendors Galore</strong> &mdash\; From classic fair favorites to local eats\, come hungry and ready to indulge!</p>\n\n<p data-end="707" data-start="596">&#128717\; <strong data-end="624" data-start="599">Craft &amp\; Vendor Booths</strong> &mdash\; Shop unique items\, support small businesses\, and find one-of-a-kind treasures.</p>\n\n<p data-end="825" data-start="709">&#127905\; <strong data-end="735" data-start="712">Family-Friendly Fun</strong> &mdash\; Activities for kids\, games\, inflatables\, and plenty to keep the whole family smiling.</p>\n\n<p data-end="909" data-start="827">&#128663\; <strong data-end="842" data-start="830">Car Show</strong> &mdash\; Check out incredible vehicles and meet fellow car enthusiasts.</p>\n\n<p data-end="996" data-start="911">&#127878\; <strong data-end="932" data-start="914">Fireworks Show</strong> &mdash\; End the night with a bang as the sky lights up over Neosho!</p>\n\n<p data-end="1113" data-start="998">&#127881\; <strong data-end="1011" data-start="1001">Parade</strong> &mdash\; Don&rsquo\;t miss this community favorite filled with floats\, local groups\, and lots of hometown spirit.</p>\n\n<p data-end="1275" data-start="1115">&#128131\; <strong data-end="1149" data-start="1118">Community Spirit Everywhere</strong> &mdash\; From friendly faces to shared laughter\, this weekend is all about coming together and celebrating what makes Neosho home.</p>\n\n<p data-end="1331" data-start="1277">&#128197\; <strong data-end="1329" data-start="1280">Mark your calendars and make plans to attend!</strong></p>\n\n<p data-end="1482" data-start="1333">Whether you come for the food\, the music\, the shopping\, or just to soak in the atmosphere &mdash\; there&rsquo\;s something for everyone at <strong data-end="1479" data-start="1459">Celebrate Neosho!</strong></p>\n\n<p data-end="1628" data-is-last-node="" data-is-only-node="" data-start="1549">#CelebrateNeosho #NeoshoMO #CommunityStrong #SupportLocal #ShopLocal #FamilyFun</p>\n
LOCATION:Historic Downtown Neosho
UID:e.2144.19979
SEQUENCE:3
DTSTAMP:20260426T000230Z
URL:https://neoshocc.com/events/details/celebrate-neosho-19979
END:VEVENT

END:VCALENDAR
