BEGIN:VCALENDAR
VERSION:2.0
PRODID:-//ChamberMaster//Event Calendar 2.0//EN
METHOD:PUBLISH
X-PUBLISHED-TTL:P3D
REFRESH-INTERVAL:P3D
CALSCALE:GREGORIAN
BEGIN:VEVENT
DTSTART:20150711T150000Z
DTEND:20150711T200000Z
X-MICROSOFT-CDO-ALLDAYEVENT:FALSE
SUMMARY:Caver Day Celebration
DESCRIPTION:Come and enjoy a day at George Washington Carver National Monument.  There will be exhibitors\, guest speakers\, music performers\, storytelling\, guided tours\, education programs\, and activities for the kids.
X-ALT-DESC;FMTTYPE=text/html:Come and enjoy a day at George Washington Carver National Monument.&nbsp\; There will be exhibitors\, guest speakers\, music performers\, storytelling\, guided tours\, education programs\, and activities for the kids.
LOCATION:George Washington Carver National Monument in Diamond\, MO
UID:e.2144.295
SEQUENCE:3
DTSTAMP:20260421T233313Z
URL:https://neoshocc.com/events/details/caver-day-celebration-07-11-2015-295
END:VEVENT

END:VCALENDAR
