BEGIN:VCALENDAR
VERSION:2.0
PRODID:-//ChamberMaster//Event Calendar 2.0//EN
METHOD:PUBLISH
X-PUBLISHED-TTL:P3D
REFRESH-INTERVAL:P3D
CALSCALE:GREGORIAN
BEGIN:VEVENT
DTSTART:20250906T180000Z
DTEND:20250906T190000Z
X-MICROSOFT-CDO-ALLDAYEVENT:FALSE
SUMMARY:CASTING A LEGACY - ART WALK
DESCRIPTION:Join a park ranger for a walk near the visitor center\, exploring commemorative artwork along the trail.
X-ALT-DESC;FMTTYPE=text/html:<span style="color:rgb(0\, 0\, 0)\; font-family:calibri\,arial\,helvetica\,sans-serif\,serif\,emojifont\; font-size:21.3333px">Join a park ranger for a walk near the visitor center\, exploring commemorative artwork along the trail.</span>
LOCATION:George Washington Carver National Monument 5646 Carver Rd Diamond\, MO. 64840
UID:e.2144.16704
SEQUENCE:3
DTSTAMP:20260424T060352Z
URL:https://neoshocc.com/events/details/casting-a-legacy-art-walk-09-06-2025-16704
END:VEVENT

END:VCALENDAR
