BEGIN:VCALENDAR
VERSION:2.0
PRODID:-//ChamberMaster//Event Calendar 2.0//EN
METHOD:PUBLISH
X-PUBLISHED-TTL:P3D
REFRESH-INTERVAL:P3D
CALSCALE:GREGORIAN
BEGIN:VEVENT
DTSTART:20160507T210000Z
DTEND:20160508T010000Z
X-MICROSOFT-CDO-ALLDAYEVENT:FALSE
SUMMARY:Car & Bike Cruise Night
DESCRIPTION:Join us on the Downtown Historic Neosho Square for Car & Bike Cruise Night\n\nSaturday\, May 7th  3pm to 7pm\n\n\n\nNo Registration Fee\n\n50/50 Pot\n\nMany Prizes
X-ALT-DESC;FMTTYPE=text/html:Join us on the Downtown Historic Neosho Square for Car &amp\; Bike Cruise Night<br />\nSaturday\, May&nbsp\;7th &nbsp\;3pm to 7pm<br />\n<br />\nNo Registration Fee<br />\n50/50 Pot<br />\nMany Prizes
LOCATION:Downtown Historic Neosho Square Enter at NW Corner at Spring & Wood Street
UID:e.2144.1547
SEQUENCE:3
DTSTAMP:20260421T083913Z
URL:https://neoshocc.com/events/details/car-bike-cruise-night-05-07-2016-1547
END:VEVENT

END:VCALENDAR
