BEGIN:VCALENDAR
VERSION:2.0
PRODID:-//ChamberMaster//Event Calendar 2.0//EN
METHOD:PUBLISH
X-PUBLISHED-TTL:P3D
REFRESH-INTERVAL:P3D
CALSCALE:GREGORIAN
BEGIN:VEVENT
DTSTART:20210821T140000Z
DTEND:20210821T230000Z
X-MICROSOFT-CDO-ALLDAYEVENT:FALSE
SUMMARY:Calotype 2021 Back to School Picture event
DESCRIPTION:THE CALOTYPE 2021 SCHOOL PICTURE EVENT\n\n \n\n\n	 Fri\, Aug 20\, 2021 9:00 AM  Sat\, Aug 21\, 2021 6:00 PM\n	Calotype Photography\n	 \n\n\nIt's our 10th Annual Calotype School Picture Event!\n\nDo you love yearly school pictures of your children\, but wish they weren't so bland and boring? Every year at this time\, Calotype opens their studio for inspirational\, one-of-a-kind school photos that YOU get to choose\, right away.\n\nIt's the same package we do every year:\n\nOne 8x10" print\, 2-5x7" prints\, 2-4x6" prints\, and 8 wallets (all one pose). From what you tell us\, this assortment provides most everything you need for yourself and family. We'll take 4 different poses\, and you get to choose right away which image you want for your package. \n\n\n\nhttps://www.calotype-photography.com/events
X-ALT-DESC;FMTTYPE=text/html:<div style="padding: 0px\; margin: 0px\; line-height: 1.2\; color: rgba(28\, 28\, 28\, 0.8)\; text-align: left\;"><a href="https://www.calotype-photography.com/events/2019/8/8/the-calotype-school-picture-event-tbe5f-y7p92" rel="noopener noreferrer" style="text-decoration-line: none\; color: rgb(28\, 28\, 28)\; font-weight: bold\; white-space: pre-wrap\; font-size: 18px\; font-family: Georgia\, &quot\;Times New Roman&quot\;\, Times\, serif\;" target="_blank">THE CALOTYPE 2021 SCHOOL PICTURE EVENT</a><br />\n&nbsp\;</div>\n\n<ul style="padding-right: 0px\; padding-left: 0px\; margin: 0px 0px 0px 40px\; color: rgb(64\, 63\, 66)\; font-family: Calibri\, Helvetica\, Arial\, sans-serif\; font-size: 16px\; white-space: pre-wrap\;">\n	<li style="padding: 0px\; margin: 0px\; line-height: 1.2\; color: rgba(28\, 28\, 28\, 0.8)\; text-align: left\;">&nbsp\;<span style="font-family: Georgia\, &quot\;Times New Roman&quot\;\, Times\, serif\;">Fri\, Aug 20\, 2021 9:00 AM&nbsp\;&nbsp\;Sat\, Aug 21\, 2021 6:00 PM</span></li>\n	<li style="padding: 0px\; margin: 0px\; line-height: 1.2\; color: rgba(28\, 28\, 28\, 0.8)\; text-align: left\;"><span style="font-family: Georgia\, &quot\;Times New Roman&quot\;\, Times\, serif\;">Calotype Photography</span></li>\n	<li style="padding: 0px\; margin: 0px\; line-height: 1.2\; color: rgba(28\, 28\, 28\, 0.8)\; text-align: left\;">&nbsp\;</li>\n</ul>\n\n<div style="color: rgb(64\, 63\, 66)\; font-family: Calibri\, Helvetica\, Arial\, sans-serif\; font-size: 16px\; white-space: pre-wrap\;"><span style="font-size: 14px\; color: rgba(28\, 28\, 28\, 0.8)\; font-family: Georgia\, &quot\;Times New Roman&quot\;\, Times\, serif\;">It&rsquo\;s our 10th Annual Calotype School Picture Event!</span></div>\n\n<div style="color: rgb(64\, 63\, 66)\; font-family: Calibri\, Helvetica\, Arial\, sans-serif\; font-size: 16px\; white-space: pre-wrap\;"><span style="font-size: 14px\; color: rgba(28\, 28\, 28\, 0.8)\; font-family: Georgia\, &quot\;Times New Roman&quot\;\, Times\, serif\;">Do you love yearly school pictures of your children\, but wish they weren&rsquo\;t so bland and boring? Every year at this time\, Calotype opens their studio for inspirational\, one-of-a-kind school photos that YOU get to choose\, right away.</span></div>\n\n<div style="color: rgb(64\, 63\, 66)\; font-family: Calibri\, Helvetica\, Arial\, sans-serif\; font-size: 16px\; white-space: pre-wrap\;"><span style="font-size: 14px\; color: rgba(28\, 28\, 28\, 0.8)\; font-family: Georgia\, &quot\;Times New Roman&quot\;\, Times\, serif\;">It&rsquo\;s the same package we do every year:</span></div>\n\n<div style="color: rgb(64\, 63\, 66)\; font-family: Calibri\, Helvetica\, Arial\, sans-serif\; font-size: 16px\; white-space: pre-wrap\;"><span style="font-size: 14px\; color: rgba(28\, 28\, 28\, 0.8)\; font-family: Georgia\, &quot\;Times New Roman&quot\;\, Times\, serif\;">One 8x10&rdquo\; print\, 2-5x7&rdquo\; prints\, 2-4x6&rdquo\; prints\, and 8 wallets (all one pose). From what you tell us\, this assortment provides most everything you need for yourself and family. We&rsquo\;ll take 4 different poses\, and you get to choose right away which image you want for your package. </span><br />\n<br />\nhttps://www.calotype-photography.com/events</div>\n
LOCATION:Calotype Photography 127 E Main St Neosho MO 64850
UID:e.2144.7861
SEQUENCE:3
DTSTAMP:20260423T180618Z
URL:https://neoshocc.com/events/details/calotype-2021-back-to-school-picture-event-7861
END:VEVENT

END:VCALENDAR
