BEGIN:VCALENDAR
VERSION:2.0
PRODID:-//ChamberMaster//Event Calendar 2.0//EN
METHOD:PUBLISH
X-PUBLISHED-TTL:P3D
REFRESH-INTERVAL:P3D
CALSCALE:GREGORIAN
BEGIN:VEVENT
DTSTART:20150326T123000Z
DTEND:20150326T170000Z
X-MICROSOFT-CDO-ALLDAYEVENT:FALSE
SUMMARY:Business & Professional Persons Breakfast
DESCRIPTION:Teen Challenge of the Four States invites you to Come and enjoy a complimentary Breakfast ans hear a business & industry economic update of the Neosho Area
X-ALT-DESC;FMTTYPE=text/html:<div style="color: gray\;">Teen Challenge of the Four States invites you to&nbsp\;Come and enjoy a complimentary Breakfast ans hear a business &amp\; industry economic update of the Neosho Area</div>\n
LOCATION:Teen Challenge of the Four States 18527 E Hwy 86 Neosho\, MO
UID:e.2144.133
SEQUENCE:3
DTSTAMP:20260422T055656Z
URL:https://neoshocc.com/events/details/business-professional-persons-breakfast-03-26-2015-133
END:VEVENT

END:VCALENDAR
