BEGIN:VCALENDAR
VERSION:2.0
PRODID:-//ChamberMaster//Event Calendar 2.0//EN
METHOD:PUBLISH
X-PUBLISHED-TTL:P3D
REFRESH-INTERVAL:P3D
CALSCALE:GREGORIAN
BEGIN:VEVENT
DTSTART:20141009T190000Z
DTEND:20141009T210000Z
X-MICROSOFT-CDO-ALLDAYEVENT:FALSE
SUMMARY:Business Open House - Great Southern Bank
DESCRIPTION:Mix a little pleasure into your work day.  Great Southern Banks invites you to join them at their downtown Neosho location for a tasty afternoon break.  Grab a coffee\, induldge in delicious homemade cobbler from Flour Box Bakery\, and bring your business card to enter our drawings for some sweet giveaways!
X-ALT-DESC;FMTTYPE=text/html:Mix a little pleasure into your work day.&nbsp\; Great Southern Banks invites you to join them at their downtown Neosho location for a tasty afternoon break.&nbsp\; Grab a coffee\, induldge in delicious homemade cobbler from Flour Box Bakery\, and bring your business card to enter our drawings for some sweet giveaways!
LOCATION:Great Southern Bank 111 E. Main St. Neosho\, MO
UID:e.2144.64
SEQUENCE:3
DTSTAMP:20260422T150731Z
URL:https://neoshocc.com/events/details/business-open-house-great-southern-bank-10-09-2014-64
END:VEVENT

END:VCALENDAR
