BEGIN:VCALENDAR
VERSION:2.0
PRODID:-//ChamberMaster//Event Calendar 2.0//EN
METHOD:PUBLISH
X-PUBLISHED-TTL:P3D
REFRESH-INTERVAL:P3D
CALSCALE:GREGORIAN
BEGIN:VEVENT
DTSTART:20190815T153000Z
DTEND:20190815T160000Z
X-MICROSOFT-CDO-ALLDAYEVENT:FALSE
SUMMARY:Business of the Month- CAS Steel
DESCRIPTION:We will honor CAS Steel\, Inc as the August Business of the Month. Join us to celebrate their contribution to our community.
X-ALT-DESC;FMTTYPE=text/html:<span style="font-size: medium\;"><span style="font-family: calibri\;">We will honor CAS Steel\, Inc as the August Business of the Month. Join us to celebrate their contribution to our community.&nbsp\;</span></span><br />\n&nbsp\;
LOCATION:18027 E. Highway 86 Neosho\, MO 64850
UID:e.2144.2672
SEQUENCE:3
DTSTAMP:20260421T085548Z
URL:https://neoshocc.com/events/details/business-of-the-month-cas-steel-2672
END:VEVENT

END:VCALENDAR
