BEGIN:VCALENDAR
VERSION:2.0
PRODID:-//ChamberMaster//Event Calendar 2.0//EN
METHOD:PUBLISH
X-PUBLISHED-TTL:P3D
REFRESH-INTERVAL:P3D
CALSCALE:GREGORIAN
BEGIN:VEVENT
DTSTART:20230406T213000Z
DTEND:20230406T233000Z
X-MICROSOFT-CDO-ALLDAYEVENT:FALSE
SUMMARY:Business After Hours hosted by Grey Oak Investments/Specialty Risk Insurance
DESCRIPTION:Business After Hours hosted by Specialty Risk Insurance\n\nFeaturing Sam's Cellar\, Indian Spring Brewing Company\, Briar and Thistle and Grey Oak Investments
X-ALT-DESC;FMTTYPE=text/html:Business After Hours hosted by Specialty Risk Insurance<br />\nFeaturing Sam&#39\;s Cellar\, Indian Spring Brewing Company\, Briar and Thistle and Grey Oak Investments<br />\n&nbsp\;
LOCATION:Indian Springs Brewing Company
UID:e.2144.9113
SEQUENCE:3
DTSTAMP:20260425T232426Z
URL:https://neoshocc.com/events/details/business-after-hours-hosted-by-grey-oak-investments-specialty-risk-insurance-9113
END:VEVENT

END:VCALENDAR
