BEGIN:VCALENDAR
VERSION:2.0
PRODID:-//ChamberMaster//Event Calendar 2.0//EN
METHOD:PUBLISH
X-PUBLISHED-TTL:P3D
REFRESH-INTERVAL:P3D
CALSCALE:GREGORIAN
BEGIN:VEVENT
DTSTART:20160421T210000Z
DTEND:20160421T230000Z
X-MICROSOFT-CDO-ALLDAYEVENT:FALSE
SUMMARY:Business After Hours- CJR Red Carpet Realtors
DESCRIPTION:Please join us for our April Business After Hours hosted by CJR Red Carpet Realtors and Oriental House of Neosho.
X-ALT-DESC;FMTTYPE=text/html:Please join us for our April Business After Hours hosted by CJR Red Carpet Realtors and Oriental House of Neosho.
LOCATION:CJR Red Carpet Realtors 1010 W. Harmony St.
UID:e.2144.1632
SEQUENCE:3
DTSTAMP:20260421T101744Z
URL:https://neoshocc.com/events/details/business-after-hours-cjr-red-carpet-realtors-04-21-2016-1632
END:VEVENT

END:VCALENDAR
