BEGIN:VCALENDAR
VERSION:2.0
PRODID:-//ChamberMaster//Event Calendar 2.0//EN
METHOD:PUBLISH
X-PUBLISHED-TTL:P3D
REFRESH-INTERVAL:P3D
CALSCALE:GREGORIAN
BEGIN:VEVENT
DTSTART:20160318T210000Z
DTEND:20160318T220000Z
X-MICROSOFT-CDO-ALLDAYEVENT:FALSE
SUMMARY:Business After Hours - B & I Review Kick-Off
DESCRIPTION:Join us for Business After Hours as we Kick-Off the 24th Annual Business & Industry Review Friday\, March 18th from 4pm to 5pm. Business After Hours Entrance is the back doors to the Cafeteria\, Bring your Business Card for FREE Admission.  Hors d'oeurvres Sponsored by First Community Bank.
X-ALT-DESC;FMTTYPE=text/html:Join us for Business After Hours as we Kick-Off the 24th Annual Business &amp\; Industry Review Friday\, March 18th from 4pm to 5pm. Business After Hours Entrance is the back doors to the Cafeteria\, Bring your Business Card for FREE Admission. &nbsp\;Hors d&#39\;oeurvres Sponsored by First Community Bank.
LOCATION:Neosho High School Cafeteria (Back Entrance)
UID:e.2144.1624
SEQUENCE:3
DTSTAMP:20260421T130619Z
URL:https://neoshocc.com/events/details/business-after-hours-b-i-review-kick-off-03-18-2016-1624
END:VEVENT

END:VCALENDAR
