BEGIN:VCALENDAR
VERSION:2.0
PRODID:-//ChamberMaster//Event Calendar 2.0//EN
METHOD:PUBLISH
X-PUBLISHED-TTL:P3D
REFRESH-INTERVAL:P3D
CALSCALE:GREGORIAN
BEGIN:VEVENT
DTSTART:20150924T210000Z
DTEND:20150924T233000Z
X-MICROSOFT-CDO-ALLDAYEVENT:FALSE
SUMMARY:Business After Hours and Membership Appreciation BBQ
DESCRIPTION:You're Invited to Our Member Appreciation Barbeque Dinner & Business After Hours\, Thursday\, September 24th - 4:00pm to 6:30pm at the Neosho Golf Course.  All Neosho Chamber Members and employees invited.
X-ALT-DESC;FMTTYPE=text/html:You&#39\;re Invited to Our Member Appreciation Barbeque Dinner &amp\; Business After Hours\, Thursday\, September 24th - 4:00pm to 6:30pm at the Neosho Golf Course.&nbsp\; All Neosho Chamber Members and employees invited.&nbsp\;
LOCATION:Neosho Golf Course
UID:e.2144.1449
SEQUENCE:3
DTSTAMP:20260421T202842Z
URL:https://neoshocc.com/events/details/business-after-hours-and-membership-appreciation-bbq-09-24-2015-1449
END:VEVENT

END:VCALENDAR
