BEGIN:VCALENDAR
VERSION:2.0
PRODID:-//ChamberMaster//Event Calendar 2.0//EN
METHOD:PUBLISH
X-PUBLISHED-TTL:P3D
REFRESH-INTERVAL:P3D
CALSCALE:GREGORIAN
BEGIN:VEVENT
DTSTART:20150729T140000Z
DTEND:20150729T150000Z
X-MICROSOFT-CDO-ALLDAYEVENT:FALSE
SUMMARY:Bullskin Grand Opening
DESCRIPTION:Join us for the Grand Opening and Ribbon Cutting for Bullskin Creek Weddings and Events.  There will be donuts and coffee and a tour of this beautiful event center.
X-ALT-DESC;FMTTYPE=text/html:Join us for the Grand Opening and Ribbon Cutting&nbsp\;for Bullskin Creek Weddings and Events.&nbsp\; There will be donuts and coffee and a tour of this beautiful event center.
LOCATION:21027 Mink Dr. Neosho\, MO
UID:e.2144.297
SEQUENCE:3
DTSTAMP:20260421T233504Z
URL:https://neoshocc.com/events/details/bullskin-grand-opening-07-29-2015-297
END:VEVENT

END:VCALENDAR
