BEGIN:VCALENDAR
VERSION:2.0
PRODID:-//ChamberMaster//Event Calendar 2.0//EN
METHOD:PUBLISH
X-PUBLISHED-TTL:P3D
REFRESH-INTERVAL:P3D
CALSCALE:GREGORIAN
BEGIN:VEVENT
DTSTART:20150515T130000Z
DTEND:20150515T170000Z
X-MICROSOFT-CDO-ALLDAYEVENT:FALSE
SUMMARY:Bright Futures Golf Tournament - Neosho Golf COurse
DESCRIPTION:Brightening a childs future one swing at a time.\n\nTee Off Time 9:00 Am
X-ALT-DESC;FMTTYPE=text/html:Brightening a childs future one swing at a time.<br />\nTee Off Time 9:00 Am<br />\n&nbsp\;
LOCATION:Neosho Municipal Golf Course
UID:e.2144.255
SEQUENCE:3
DTSTAMP:20260422T030151Z
URL:https://neoshocc.com/events/details/bright-futures-golf-tournament-neosho-golf-course-05-15-2015-255
END:VEVENT

END:VCALENDAR
