BEGIN:VCALENDAR
VERSION:2.0
PRODID:-//ChamberMaster//Event Calendar 2.0//EN
METHOD:PUBLISH
X-PUBLISHED-TTL:P3D
REFRESH-INTERVAL:P3D
CALSCALE:GREGORIAN
BEGIN:VEVENT
DTSTART:20240112T133000Z
DTEND:20240112T143000Z
X-MICROSOFT-CDO-ALLDAYEVENT:FALSE
SUMMARY:Brewing Business Coffee at Freeman Neosho Hospital
DESCRIPTION:Brewing Business Coffee with Freeman Health System\n\nJoin us for the first Brewing Business Coffee of 2024 hosted at Freeman Health System.\n\n\n\nFeaturing Perk'n Pitch: The first 20 early birds snag the spotlight to deliver a lightning-fast\, 30-second update on their upcoming events\, cutting-edge services\, or any exciting news they're itching to share with the room!
X-ALT-DESC;FMTTYPE=text/html:<span style="font-size:14px\;"><span style="font-family:arial\;"><strong>Brewing Business Coffee with Freeman Health System</strong><br />\nJoin us for the first Brewing Business Coffee of 2024 hosted at Freeman Health System.<br />\n<br />\n<strong>Featuring Perk&#39\;n Pitch</strong>:&nbsp\;<span style="color: rgb(55\, 65\, 81)\; white-space-collapse: preserve\;">The first 20 early birds snag the spotlight to deliver a lightning-fast\, 30-second update on their upcoming events\, cutting-edge services\, or any exciting news they&#39\;re itching to share with the room!</span></span></span><br />\n&nbsp\;
LOCATION:The Flower Box Cafe at Freeman Neosho Hospital 113 W. Hickory Neosho\, MO 64850 Please park in the following lots: Lot behind the Methodist Church Middle Parking Lot by Clark Funeral home or the lot by the helicopter pad.
UID:e.2144.11155
SEQUENCE:3
DTSTAMP:20260425T104427Z
URL:https://neoshocc.com/events/details/brewing-business-coffee-at-freeman-neosho-hospital-11155
END:VEVENT

END:VCALENDAR
