BEGIN:VCALENDAR
VERSION:2.0
PRODID:-//ChamberMaster//Event Calendar 2.0//EN
METHOD:PUBLISH
X-PUBLISHED-TTL:P3D
REFRESH-INTERVAL:P3D
CALSCALE:GREGORIAN
BEGIN:VEVENT
DTSTART:20141206T140000Z
DTEND:20141206T170000Z
X-MICROSOFT-CDO-ALLDAYEVENT:FALSE
SUMMARY:Breakfast with Santa
DESCRIPTION:Join Santa for Breakfast at the Neosho Civic Saturday\, December 6th from 8am to 11am.
X-ALT-DESC;FMTTYPE=text/html:Join Santa for Breakfast at the Neosho Civic Saturday\, December 6th from 8am to 11am.&nbsp\;
LOCATION:The Neosho Civic 109 West Main Neosho\, MO 64850
UID:e.2144.68
SEQUENCE:3
DTSTAMP:20260422T103657Z
URL:https://neoshocc.com/events/details/breakfast-with-santa-12-06-2014-68
END:VEVENT

END:VCALENDAR
