BEGIN:VCALENDAR
VERSION:2.0
PRODID:-//ChamberMaster//Event Calendar 2.0//EN
METHOD:PUBLISH
X-PUBLISHED-TTL:P3D
REFRESH-INTERVAL:P3D
CALSCALE:GREGORIAN
BEGIN:VEVENT
DTSTART:20211016T140000Z
DTEND:20211016T190000Z
X-MICROSOFT-CDO-ALLDAYEVENT:FALSE
SUMMARY:Boss Babe Saturday with Cactus Creek
DESCRIPTION:Celebrate FALL with us at Cactus Creek Boutique and shop a wide variety of small women owned/operated businesses!\n\n-Boutiques\n\n-Food Trucks\n\n-Jewelry\n\n-Crafts\n\n-AND MORE!!\n\nDon't forget your SWAG BAG to take advantage of our STOREWIDE SALE!!
X-ALT-DESC;FMTTYPE=text/html:<div class="kvgmc6g5 cxmmr5t8 oygrvhab hcukyx3x c1et5uql" style="overflow-wrap: break-word\; margin: 0px\; font-family: &quot\;Segoe UI Historic&quot\;\, &quot\;Segoe UI&quot\;\, Helvetica\, Arial\, sans-serif\; color: rgb(5\, 5\, 5)\; font-size: 15px\;">Celebrate FALL with us at Cactus Creek Boutique and shop a wide variety of small women owned/operated businesses!<br />\n-Boutiques<br />\n-Food Trucks<br />\n-Jewelry<br />\n-Crafts<br />\n-AND MORE!!</div>\n\n<div class="o9v6fnle cxmmr5t8 oygrvhab hcukyx3x c1et5uql" style="overflow-wrap: break-word\; margin: 0.5em 0px 0px\; font-family: &quot\;Segoe UI Historic&quot\;\, &quot\;Segoe UI&quot\;\, Helvetica\, Arial\, sans-serif\; color: rgb(5\, 5\, 5)\; font-size: 15px\;">Don&#39\;t forget your SWAG BAG to take advantage of our STOREWIDE SALE!!</div>\n
LOCATION:Cactus Creek Boutique 895 N Business 49 Neosho\, MO 64850
UID:e.2144.8032
SEQUENCE:3
DTSTAMP:20260423T210648Z
URL:https://neoshocc.com/events/details/boss-babe-saturday-with-cactus-creek-8032
END:VEVENT

END:VCALENDAR
