BEGIN:VCALENDAR
VERSION:2.0
PRODID:-//ChamberMaster//Event Calendar 2.0//EN
METHOD:PUBLISH
X-PUBLISHED-TTL:P3D
REFRESH-INTERVAL:P3D
CALSCALE:GREGORIAN
BEGIN:VEVENT
DTSTART:20240928T230000Z
DTEND:20240929T020000Z
X-MICROSOFT-CDO-ALLDAYEVENT:FALSE
SUMMARY:Blues Doctors Live Music at Eastside Social
DESCRIPTION:Get ready for a night of unforgettable tunes with the Blues Doctors at Eastside Social on September 28th from 6pm to 9pm!
X-ALT-DESC;FMTTYPE=text/html:<span style="font-size:14px"><span style="color:rgb(35\, 31\, 32)\; font-family:brandon-grotesque">Get ready for a night of unforgettable tunes with the Blues Doctors at Eastside Social on September 28th from 6pm to 9pm!</span></span>
LOCATION:113 S Washington St\, Neosho Mo at Eastside Social
UID:e.2144.13055
SEQUENCE:3
DTSTAMP:20260424T232402Z
URL:https://neoshocc.com/events/details/blues-doctors-live-music-at-eastside-social-13055
END:VEVENT

END:VCALENDAR
