BEGIN:VCALENDAR
VERSION:2.0
PRODID:-//ChamberMaster//Event Calendar 2.0//EN
METHOD:PUBLISH
X-PUBLISHED-TTL:P3D
REFRESH-INTERVAL:P3D
CALSCALE:GREGORIAN
BEGIN:VEVENT
DTSTART:20260523T150000Z
DTEND:20260523T160000Z
X-MICROSOFT-CDO-ALLDAYEVENT:FALSE
SUMMARY:Birds on the Move
DESCRIPTION:It's spring migration! Go birding with an expert from the Ozark Gateway Audubon Chapter. No experience needed\, binoculars available.
X-ALT-DESC;FMTTYPE=text/html:It&#39\;s spring migration! Go birding with an expert from the Ozark Gateway Audubon Chapter. No experience needed\, binoculars available.
LOCATION:George Washington Carver NM 5646 Carver Rd. Diamond MO 64840
UID:e.2144.19801
SEQUENCE:3
DTSTAMP:20260422T043133Z
URL:https://neoshocc.com/events/details/birds-on-the-move-19801
END:VEVENT

END:VCALENDAR
