BEGIN:VCALENDAR
VERSION:2.0
PRODID:-//ChamberMaster//Event Calendar 2.0//EN
METHOD:PUBLISH
X-PUBLISHED-TTL:P3D
REFRESH-INTERVAL:P3D
CALSCALE:GREGORIAN
BEGIN:VEVENT
DTSTART:20260509T213000Z
DTEND:20260510T023000Z
X-MICROSOFT-CDO-ALLDAYEVENT:FALSE
SUMMARY:Big Whiskey's Neosho Yard Party
DESCRIPTION:Big Whiskey's Neosho Yard Party  \n\nGet ready for an evening of great vibes\, good company\, and outdoor fun at Big Whiskey's Neosho Yard Party! Join us on May 9th from 4:30 9:30 PM for a laid-back celebration featuring something for everyone.\n\nKick things off with the Bloom Bar from 4:30 6:00 PM\, grab some free merch\, and enjoy a family-friendly atmosphere filled with games and activities. As the evening rolls on\, settle in for live music from 6:30 9:30 PM under the lights in Big Whiskey's outdoor yard space.\n\nWhether you're coming for the music\, the fun\, or just a relaxing night out\, this is the perfect way to spend a spring evening in Neosho!   \n\nLet me know if you want a shorter version or one with a little more hype
X-ALT-DESC;FMTTYPE=text/html:<p data-end="95" data-start="54"><strong data-end="95" data-start="54">&#127881\; Big Whiskey&rsquo\;s Neosho Yard Party &#127926\;</strong></p>\n\n<p data-end="306" data-start="97">Get ready for an evening of great vibes\, good company\, and outdoor fun at Big Whiskey&rsquo\;s Neosho Yard Party! Join us on <strong data-end="244" data-start="215">May 9th from 4:30&ndash\;9:30 PM</strong> for a laid-back celebration featuring something for everyone.</p>\n\n<p data-end="582" data-start="308">Kick things off with the Bloom Bar from 4:30&ndash\;6:00 PM\, grab some free merch\, and enjoy a family-friendly atmosphere filled with games and activities. As the evening rolls on\, settle in for <strong data-end="528" data-start="496">live music from 6:30&ndash\;9:30 PM</strong> under the lights in Big Whiskey&rsquo\;s outdoor yard space.</p>\n\n<p data-end="725" data-start="584">Whether you&rsquo\;re coming for the music\, the fun\, or just a relaxing night out\, this is the perfect way to spend a spring evening in Neosho! &#127807\;&#127926\;</p>\n\n<p data-end="802" data-is-last-node="" data-is-only-node="" data-start="727">Let me know if you want a shorter version or one with a little more hype &#128293\;</p>\n
LOCATION:Big Whiskey's Neosho 1411 Blue Oak Ln Suite E\, Neosho\, MO
UID:e.2144.19476
SEQUENCE:3
DTSTAMP:20260420T044155Z
URL:https://neoshocc.com/events/details/big-whiskey-s-neosho-yard-party-19476
END:VEVENT

END:VCALENDAR
