BEGIN:VCALENDAR
VERSION:2.0
PRODID:-//ChamberMaster//Event Calendar 2.0//EN
METHOD:PUBLISH
X-PUBLISHED-TTL:P3D
REFRESH-INTERVAL:P3D
CALSCALE:GREGORIAN
BEGIN:VEVENT
DTSTART:20150912T111500Z
DTEND:20150912T170000Z
X-MICROSOFT-CDO-ALLDAYEVENT:FALSE
SUMMARY:Big Red Shoe 15K- 5k- Kid's Fun Run - Benefitting Ronald McDonald House of the Four States
DESCRIPTION:Calling all runners! Mark your calendars for September 12\, 2015. Lace up your shoes and start training because Ronald McDonald House Charities of the Four States is hosting the 3rd Annual Big Red Shoe this summer to help children heal with their families by their side. With the help from volunteers and athletes\, this year's fundraiser can be another great success. Each race\, the 15k\, 5k and Kid's Fun Run is perfect for all runners. Register today through athletepath.com at http://bit.ly/1zsDm8p or call 417-624-2273 for more information.
X-ALT-DESC;FMTTYPE=text/html:<span style="background: white\;"><span style="font-family: arial\,sans-serif\;"><span style="color: black\;"><span style="font-size: medium\;">Calling all runners! Mark your calendars for September 12\, 2015. Lace up your shoes and start training because Ronald McDonald House Charities of the Four States is hosting the 3</span><sup><span style="font-size: small\;">rd</span></sup><span style="font-size: medium\;"> Annual Big Red Shoe this summer to help children heal with their families by their side. With the help from volunteers and athletes\, this year&rsquo\;s fundraiser can be another great success. Each race\, the 15k\, 5k and Kid&rsquo\;s Fun Run is perfect for all runners. Register today through athletepath.com at </span></span></span></span><span style="font-family: arial\,sans-serif\;"><a href="http://bit.ly/1zsDm8p"><span style="background: white\;"><span style="font-size: medium\;"><span style="color: rgb(0\, 0\, 255)\;">http://bit.ly/1zsDm8p</span></span></span></a><span style="font-size: medium\;"><span style="background: white\;"><span style="color: black\;"> or call 417-624-2273 for more information.</span></span></span></span><br />\n&nbsp\;<br />\n&nbsp\;
LOCATION:Ronald McDonald House of the Four States 3402 S. Jackson Joplin\, MO
UID:e.2144.260
SEQUENCE:3
DTSTAMP:20260421T215853Z
URL:https://neoshocc.com/events/details/big-red-shoe-15k-5k-kid-s-fun-run-benefitting-ronald-mcdonald-house-of-the-four-states-09-12-2015-260
END:VEVENT

END:VCALENDAR
