BEGIN:VCALENDAR
VERSION:2.0
PRODID:-//ChamberMaster//Event Calendar 2.0//EN
METHOD:PUBLISH
X-PUBLISHED-TTL:P3D
REFRESH-INTERVAL:P3D
CALSCALE:GREGORIAN
BEGIN:VEVENT
DTSTART;VALUE=DATE:20190810
DTEND;VALUE=DATE:20190811
TRANSP:TRANSPARENT
X-MICROSOFT-CDO-ALLDAYEVENT:TRUE
SUMMARY:Back to School Pictures - Forever Moments
DESCRIPTION:Back-to-School Pictures with Forever Moments @ Big Spring Park.\n\n$15/Session $5 for additional sibling\n\nLimited availability
X-ALT-DESC;FMTTYPE=text/html:<p style="font-family: proxima-nova\; font-size: 14px\; line-height: 1.8em\; margin: 0px 0px 1.8em\; overflow-wrap: break-word\; color: rgba(28\, 28\, 28\, 0.8)\; white-space: pre-wrap\;">Back-to-School Pictures with Forever Moments @ Big Spring Park.<br />\n$15/Session $5 for additional sibling<br />\nLimited availability</p>\n
LOCATION:
UID:e.2144.2659
SEQUENCE:3
DTSTAMP:20260421T102110Z
URL:https://neoshocc.com/events/details/back-to-school-pictures-forever-moments-2659
END:VEVENT

END:VCALENDAR
