BEGIN:VCALENDAR
VERSION:2.0
PRODID:-//ChamberMaster//Event Calendar 2.0//EN
METHOD:PUBLISH
X-PUBLISHED-TTL:P3D
REFRESH-INTERVAL:P3D
CALSCALE:GREGORIAN
BEGIN:VEVENT
DTSTART:20190812T180000Z
DTEND:20190812T190000Z
X-MICROSOFT-CDO-ALLDAYEVENT:FALSE
SUMMARY:Back to School Immunizations: What You Need to Know
DESCRIPTION:Would you like to learn more about what immunizations that your children need before going back to school?  Plan now to attend this FREE informational education session. \n\n\n\nWhen:  Monday\, August 12th 1:00-2:00 pm. \n\nWhere:  Neosho Newton County Library 201 W Spring Street in Neosho. \n\nSpeaker:  Dr. Paula Boettler\, PharmD will be the speaker. \n\n\n\nA Free Immunization Assessment worksheet will be given to each child who attends. Immunizations will also be available to be administered at the pharmacy the same day.
X-ALT-DESC;FMTTYPE=text/html:<br />\nWould you like to learn more about what immunizations that your children need before going back to school?&nbsp\; Plan now to attend this FREE informational education session.&nbsp\;<br />\n<br />\nWhen:&nbsp\; Monday\, August 12th 1:00-2:00 pm.&nbsp\;<br />\nWhere:&nbsp\; Neosho Newton County Library 201 W Spring Street in Neosho.&nbsp\;<br />\nSpeaker:&nbsp\; Dr. Paula Boettler\, PharmD will be the speaker.&nbsp\;<br />\n<br />\nA Free Immunization Assessment worksheet will be given to each child who attends. Immunizations will also be available to be administered at the pharmacy the same day.&nbsp\;
LOCATION:Neosho/Newton County Library 201 W Spring Street Neosho\, MO 64850
UID:e.2144.2678
SEQUENCE:3
DTSTAMP:20260421T102010Z
URL:https://neoshocc.com/events/details/back-to-school-immunizations-what-you-need-to-know-2678
END:VEVENT

END:VCALENDAR
