BEGIN:VCALENDAR
VERSION:2.0
PRODID:-//ChamberMaster//Event Calendar 2.0//EN
METHOD:PUBLISH
X-PUBLISHED-TTL:P3D
REFRESH-INTERVAL:P3D
CALSCALE:GREGORIAN
BEGIN:VEVENT
DTSTART:20240427T150000Z
DTEND:20240427T220000Z
X-MICROSOFT-CDO-ALLDAYEVENT:FALSE
SUMMARY:Back in Thyme - Spring Open House
DESCRIPTION:We are officially opening for the season! Come out and join us for awesome sales\, drawings for discounts\, and yummy treats.
X-ALT-DESC;FMTTYPE=text/html:<span style="color: rgb(5\, 5\, 5)\; font-family: &quot\;Segoe UI Historic&quot\;\, &quot\;Segoe UI&quot\;\, Helvetica\, Arial\, sans-serif\; font-size: 15px\;">We are officially opening for the season! Come out and join us for awesome sales\, drawings for discounts\, and yummy treats.</span>
LOCATION:Back In Thyme Gardens & Culinary Center\, LLC
UID:e.2144.12059
SEQUENCE:3
DTSTAMP:20260421T101132Z
URL:https://neoshocc.com/events/details/back-in-thyme-spring-open-house-12059
END:VEVENT

END:VCALENDAR
