BEGIN:VCALENDAR
VERSION:2.0
PRODID:-//ChamberMaster//Event Calendar 2.0//EN
METHOD:PUBLISH
X-PUBLISHED-TTL:P3D
REFRESH-INTERVAL:P3D
CALSCALE:GREGORIAN
BEGIN:VEVENT
DTSTART;VALUE=DATE:20210325
DTEND;VALUE=DATE:20210328
TRANSP:TRANSPARENT
X-MICROSOFT-CDO-ALLDAYEVENT:TRUE
SUMMARY:Back In Thyme Gardens & Culinary Center Opening Week!
DESCRIPTION:March 25th - 27th is our opening week! \n\nWe are a small\, family run\, hobby farm and garden center. Open from spring to early summer then by appointment...Stroll through our garden rooms\, shop in our retail area or just come to talk garden and hobby farm with us...We love visitors!\n\n\n\nView our Facebook!
X-ALT-DESC;FMTTYPE=text/html:March 25th - 27th is our opening week!&nbsp\;<br />\n<span style="color: rgb(5\, 5\, 5)\; font-family: &quot\;Segoe UI Historic&quot\;\, &quot\;Segoe UI&quot\;\, Helvetica\, Arial\, sans-serif\; font-size: 15px\;">We are a small\, family run\, hobby farm and garden center. Open from spring to early summer then by appointment...Stroll through our garden rooms\, shop in our retail area or just come to talk garden and hobby farm with us...We love visitors!<br />\n<br />\n<a href="https://www.facebook.com/backinthymegardens">View our Facebook!</a></span>
LOCATION:18284 Gazelle Dr. Neosho\, MO 648550
UID:e.2144.7317
SEQUENCE:3
DTSTAMP:20260423T193126Z
URL:https://neoshocc.com/events/details/back-in-thyme-gardens-culinary-center-opening-week-7317
END:VEVENT

END:VCALENDAR
