BEGIN:VCALENDAR
VERSION:2.0
PRODID:-//ChamberMaster//Event Calendar 2.0//EN
METHOD:PUBLISH
X-PUBLISHED-TTL:P3D
REFRESH-INTERVAL:P3D
CALSCALE:GREGORIAN
BEGIN:VEVENT
DTSTART;VALUE=DATE:20210211
DTEND;VALUE=DATE:20210214
TRANSP:TRANSPARENT
X-MICROSOFT-CDO-ALLDAYEVENT:TRUE
SUMMARY:ArtCon@Home
DESCRIPTION:Revenge of the Rona! ArtCon returns\, virtually\, February 11 - 13  at neoshoarts.net\n\n\n\nMeet Star Trek Discovery's Noah Averbach-Katz!\n\n\n\nTalk with the creators of your favorite comic books including a special look a Star Wars Adventures!\n\n\n\nAll in our free live stream panels!\n\n\n\nEnter for a chance to win cash and prizes in our cosplay contest\, gaming tournament and trivia nights!\n\n\n\nFun\, fandom\, and competition come right to your screen during ArtCon@Home visit neoshoarts.net now! Sponsored by KOAM\, Fox 14\, The Four States CW and MEtv along with Crowder College and First Community Bank!\n\n\n\nSupport the fine arts in our community by joining ArtCon@Home\, buying some merch\, and have fun! Funds raised go directly back into the fine arts here at home!
X-ALT-DESC;FMTTYPE=text/html:Revenge of the Rona! ArtCon returns\, virtually\, February 11 - 13 &nbsp\;at <a href="http://neoshoarts.net" target="_blank">neoshoarts.net</a><br />\n<br />\nMeet Star Trek Discovery&#39\;s Noah Averbach-Katz!<br />\n<br />\nTalk with the creators of your favorite comic books including a special look a Star Wars Adventures!<br />\n<br />\nAll in our free live stream panels!<br />\n<br />\nEnter for a chance to win cash and prizes in our cosplay contest\, gaming tournament and trivia nights!<br />\n<br />\nFun\, fandom\, and competition come right to your screen during ArtCon@Home visit <a href="http://neoshoarts.net" target="_blank">neoshoarts.net</a> now! Sponsored by KOAM\, Fox 14\, The Four States CW and MEtv along with Crowder College and First Community Bank!<br />\n<br />\nSupport the fine arts in our community by joining ArtCon@Home\, buying some merch\, and have fun! Funds raised go directly back into the fine arts here at home!<br />\n&nbsp\;
LOCATION:Neoshoarts.net
UID:e.2144.7202
SEQUENCE:3
DTSTAMP:20260423T224358Z
URL:https://neoshocc.com/events/details/artcon-home-7202
END:VEVENT

END:VCALENDAR
