BEGIN:VCALENDAR
VERSION:2.0
PRODID:-//ChamberMaster//Event Calendar 2.0//EN
METHOD:PUBLISH
X-PUBLISHED-TTL:P3D
REFRESH-INTERVAL:P3D
CALSCALE:GREGORIAN
BEGIN:VEVENT
DTSTART:20141004T140000Z
DTEND:20141004T210000Z
X-MICROSOFT-CDO-ALLDAYEVENT:FALSE
SUMMARY:Art Sale & Expo
DESCRIPTION:The Neosho Arts Council is proud to sponsor the Art Exhibition & Sale at the Neosho Civic.  Artists booths\, Kids PhotoSquared Exhibit and Fine Art Photography Exhibit will be Open Saturday from 9am to 4 pm inside the Neosho Civic
X-ALT-DESC;FMTTYPE=text/html:The Neosho Arts Council is proud to sponsor the Art Exhibition &amp\; Sale at the Neosho Civic.&nbsp\; Artists booths\, Kids PhotoSquared Exhibit and Fine Art Photography Exhibit will be Open Saturday from 9am to 4 pm inside the Neosho Civic
LOCATION:The Neosho Civic
UID:e.2144.49
SEQUENCE:3
DTSTAMP:20260422T150348Z
URL:https://neoshocc.com/events/details/art-sale-expo-10-04-2014-49
END:VEVENT

END:VCALENDAR
