BEGIN:VCALENDAR
VERSION:2.0
PRODID:-//ChamberMaster//Event Calendar 2.0//EN
METHOD:PUBLISH
X-PUBLISHED-TTL:P3D
REFRESH-INTERVAL:P3D
CALSCALE:GREGORIAN
BEGIN:VEVENT
DTSTART;VALUE=DATE:20160301
DTEND;VALUE=DATE:20160302
TRANSP:TRANSPARENT
X-MICROSOFT-CDO-ALLDAYEVENT:TRUE
SUMMARY:Art Exhibit by Lyle Welch
DESCRIPTION:The art exhibit will run from March 1st through March 17th
X-ALT-DESC;FMTTYPE=text/html:The art exhibit will run from March 1st through March 17th
LOCATION:Longwell Museum
UID:e.2144.1567
SEQUENCE:3
DTSTAMP:20260421T130330Z
URL:https://neoshocc.com/events/details/art-exhibit-by-lyle-welch-03-01-2016-1567
END:VEVENT

END:VCALENDAR
