BEGIN:VCALENDAR
VERSION:2.0
PRODID:-//ChamberMaster//Event Calendar 2.0//EN
METHOD:PUBLISH
X-PUBLISHED-TTL:P3D
REFRESH-INTERVAL:P3D
CALSCALE:GREGORIAN
BEGIN:VEVENT
DTSTART:20160130T230000Z
DTEND:20160131T010000Z
X-MICROSOFT-CDO-ALLDAYEVENT:FALSE
SUMMARY:Art Exhibit by Kris Allphin - Longwell Museum Artist Reception
DESCRIPTION:An artist reception will be held Saturday\, January 30th from 5pm to 7pm
X-ALT-DESC;FMTTYPE=text/html:An artist reception will be held Saturday\, January 30th from 5pm to 7pm
LOCATION:Longwell Museum
UID:e.2144.1565
SEQUENCE:3
DTSTAMP:20260421T160456Z
URL:https://neoshocc.com/events/details/art-exhibit-by-kris-allphin-longwell-museum-artist-reception-01-30-2016-1565
END:VEVENT

END:VCALENDAR
