BEGIN:VCALENDAR
VERSION:2.0
PRODID:-//ChamberMaster//Event Calendar 2.0//EN
METHOD:PUBLISH
X-PUBLISHED-TTL:P3D
REFRESH-INTERVAL:P3D
CALSCALE:GREGORIAN
BEGIN:VEVENT
DTSTART:20260507T220000Z
DTEND:20260508T010000Z
X-MICROSOFT-CDO-ALLDAYEVENT:FALSE
SUMMARY:Art Auction & Open House Benefiting Ronald McDonald House of the Four States
DESCRIPTION:Local Color Art Gallery has selected Ronald McDonald House Charities of the Four States as the beneficiary of their Spring Open House and Silent Auction. Bidding is open NOW!\n\n \n\n\n\nThis special auction features one-of-a-kind pieces generously donated by talented local artists\, with all proceeds helping provide comfort\, care\, and support to families staying at RMHC of the Four States.\n\n\n\nYou can view and bid on each piece in person at the gallery\, on their Facebook\, or place a bid by phone at 417-553-0835.\n\n\n\nIt's a meaningful way to support local families while taking home a truly unique piece of art.\n\n \n\n\n\nBidding is open now and ends May 7 be sure to stop by or call in your bid before it closes!
X-ALT-DESC;FMTTYPE=text/html:<div>\n<div><span style="font-family:inherit">Local Color Art Gallery has&nbsp\;</span>selected Ronald McDonald House Charities of the Four States as the beneficiary of their Spring Open House and Silent Auction. Bidding is open NOW!<br />\n&nbsp\;</div>\n</div>\n\n<div>\n<div>This special auction features one-of-a-kind pieces generously donated by talented local artists\, with all proceeds helping provide comfort\, care\, and support to families staying at RMHC of the Four States.</div>\n</div>\n\n<div>\n<div>You can view and bid on each piece in person at the gallery\, on their Facebook\, or place a bid by phone at 417-553-0835.</div>\n</div>\n\n<div>\n<div>It&rsquo\;s a meaningful way to support local families while taking home a truly unique piece of art.<br />\n&nbsp\;</div>\n</div>\n\n<div>\n<div>Bidding is open now and ends May 7&mdash\;be sure to stop by or call in your bid before it closes!</div>\n</div>\n
LOCATION:Local Color Art Gallery 1027 S. Main St. Joplin\, MO 64801
UID:e.2144.19795
SEQUENCE:3
DTSTAMP:20260420T044323Z
URL:https://neoshocc.com/events/details/art-auction-open-house-benefiting-ronald-mcdonald-house-of-the-four-states-19795
END:VEVENT

END:VCALENDAR
