BEGIN:VCALENDAR
VERSION:2.0
PRODID:-//ChamberMaster//Event Calendar 2.0//EN
METHOD:PUBLISH
X-PUBLISHED-TTL:P3D
REFRESH-INTERVAL:P3D
CALSCALE:GREGORIAN
BEGIN:VEVENT
DTSTART:20160310T230000Z
DTEND:20160311T010000Z
X-MICROSOFT-CDO-ALLDAYEVENT:FALSE
SUMMARY:Art After Hours - March Artist "Josie Mai"
DESCRIPTION:The Neosho Area Chamber of Commerce and the Neosho Arts Council invites you to join us for Art After Hours featuring the hand rubbed collages by artist Josie Mai\, an instructor at Pittsburg State University.
X-ALT-DESC;FMTTYPE=text/html:<div style="color: gray\;">The Neosho Area Chamber of Commerce and the Neosho Arts Council invites you to join us for Art After Hours featuring the hand rubbed collages by artist Josie Mai\, an instructor at Pittsburg State University.</div>\n
LOCATION:Neosho Area Chamber of Commerce 216 W. Spring St. Neosho\, MO 64850
UID:e.2144.1614
SEQUENCE:3
DTSTAMP:20260421T115304Z
URL:https://neoshocc.com/events/details/art-after-hours-march-artist-josie-mai-03-10-2016-1614
END:VEVENT

END:VCALENDAR
