BEGIN:VCALENDAR
VERSION:2.0
PRODID:-//ChamberMaster//Event Calendar 2.0//EN
METHOD:PUBLISH
X-PUBLISHED-TTL:P3D
REFRESH-INTERVAL:P3D
CALSCALE:GREGORIAN
BEGIN:VEVENT
DTSTART:20160510T220000Z
DTEND:20160511T000000Z
X-MICROSOFT-CDO-ALLDAYEVENT:FALSE
SUMMARY:Art After Hours - JRAC "Shadows" - Sponsored by Booyer's Welding
DESCRIPTION:Members of JRAC have been challenged to create works of art where "shadows" play an important role in the piece. Artists from across the area will come together to answer this challenge and present "Shadows."
X-ALT-DESC;FMTTYPE=text/html:<span style="font-size: 12pt\;"><span style="font-family: calibri\,sans-serif\;">Members of JRAC have been challenged to create works of art where &quot\;shadows&quot\; play an important role in the piece. Artists from across the area will come together to answer this challenge and present &quot\;Shadows.&quot\;</span></span><br />\n<br />\n<br />\n<br />\n&nbsp\;
LOCATION:Neosho Area Chamber of Commerce Hale McGinty Business Center 216 W. Spring Neosho\, MO
UID:e.2144.1645
SEQUENCE:3
DTSTAMP:20260421T085419Z
URL:https://neoshocc.com/events/details/art-after-hours-jrac-shadows-sponsored-by-booyer-s-welding-05-10-2016-1645
END:VEVENT

END:VCALENDAR
