BEGIN:VCALENDAR
VERSION:2.0
PRODID:-//ChamberMaster//Event Calendar 2.0//EN
METHOD:PUBLISH
X-PUBLISHED-TTL:P3D
REFRESH-INTERVAL:P3D
CALSCALE:GREGORIAN
BEGIN:VEVENT
DTSTART:20160112T230000Z
DTEND:20160113T010000Z
X-MICROSOFT-CDO-ALLDAYEVENT:FALSE
SUMMARY:Art After Hours - January's featured artist - April Davis - Sponsored by Oak Pointe Assisted Living
DESCRIPTION:You are invited to join us at the Neosho Area Chamber of Commerce for Art After Hours.  The Neosho Arts Council Gallery Walls will feature the art of April Davis for the month of January.  This month's event is sponsored by Oak Pointe Assisted Living & Memory Care.
X-ALT-DESC;FMTTYPE=text/html:You are invited to join us at the Neosho Area Chamber of Commerce for Art After Hours.&nbsp\; The Neosho Arts Council Gallery Walls&nbsp\;will feature the art of April Davis for the month of January.&nbsp\; This month&#39\;s event is sponsored by Oak Pointe Assisted Living &amp\; Memory Care.
LOCATION:Neosho Area Chamber of Commerce 216 W. Spring St Neosho\, Mo
UID:e.2144.1529
SEQUENCE:3
DTSTAMP:20260421T144859Z
URL:https://neoshocc.com/events/details/art-after-hours-january-s-featured-artist-april-davis-sponsored-by-oak-pointe-assisted-living-01-12-2016-1529
END:VEVENT

END:VCALENDAR
