BEGIN:VCALENDAR
VERSION:2.0
PRODID:-//ChamberMaster//Event Calendar 2.0//EN
METHOD:PUBLISH
X-PUBLISHED-TTL:P3D
REFRESH-INTERVAL:P3D
CALSCALE:GREGORIAN
BEGIN:VEVENT
DTSTART:20160411T220000Z
DTEND:20160412T000000Z
X-MICROSOFT-CDO-ALLDAYEVENT:FALSE
SUMMARY:Art After Hours
DESCRIPTION:Join the Neosho Arts Council and the Neosho Area Chamber of Commerce for Art After Hours featuring the Artwork of the Crowder Graphic Design Department and the Art & Design Departments.  Hors d'ouevres Sponsored by Lyerla Sheet Metal Heating & Air Conditioning.
X-ALT-DESC;FMTTYPE=text/html:Join the Neosho Arts Council and the Neosho Area Chamber of Commerce for Art After Hours featuring the Artwork of the Crowder Graphic Design Department and the Art &amp\; Design Departments.&nbsp\; Hors d&#39\;ouevres Sponsored by Lyerla Sheet Metal Heating &amp\; Air Conditioning.
LOCATION:Hale McGinty Business Center Neosho Area Chamber of Commerce 216 W. Spring Street Neosho\, Mo 64850
UID:e.2144.1638
SEQUENCE:3
DTSTAMP:20260421T101354Z
URL:https://neoshocc.com/events/details/art-after-hours-04-11-2016-1638
END:VEVENT

END:VCALENDAR
