BEGIN:VCALENDAR
VERSION:2.0
PRODID:-//ChamberMaster//Event Calendar 2.0//EN
METHOD:PUBLISH
X-PUBLISHED-TTL:P3D
REFRESH-INTERVAL:P3D
CALSCALE:GREGORIAN
BEGIN:VEVENT
DTSTART;VALUE=DATE:20190808
DTEND;VALUE=DATE:20190811
TRANSP:TRANSPARENT
X-MICROSOFT-CDO-ALLDAYEVENT:TRUE
SUMMARY:Annual School Picture Event - Calotype Photography
DESCRIPTION:It's the 8th Annual Calotype School Picture Event!\n\nOrdinary school pictures- out!\n\nQuality\, special school pictures with the Calotype touch- in!\n\nIt's the same package we do every year:\n\nOne 8x10" print\, 2-5x7" prints\, 2-4x6" prints\, and 8 wallets (all one pose). From what you tell us\, this assortment provides most everything you need for yourself and family. We'll take a few different pictures\, and you get to choose right away which image you want for your package.\n\nIt's just one child at a time- no siblings together. We have the whole studio at our disposal\, so have your child wear whatever they want. We'll find a backdrop to match!\n\nTHERE'S NO AGE LIMIT- as long as a child can sit by themselves\, they are not too young (or too old!)\n\nCost is $50 plus tax\, paid that day.\n\nCall the studio at 417-658-8865 to book\, or fill out this form to request a spot.\n\n\n\nwww.calotype-photography.com
X-ALT-DESC;FMTTYPE=text/html:<p style="font-family: proxima-nova\; font-size: 14px\; line-height: 1.8em\; margin: 0px 0px 1.8em\; overflow-wrap: break-word\; color: rgba(28\, 28\, 28\, 0.8)\; white-space: pre-wrap\;"><strong style="overflow-wrap: break-word\;">It&rsquo\;s the 8th Annual Calotype School Picture Event!</strong></p>\n\n<p style="font-family: proxima-nova\; font-size: 14px\; line-height: 1.8em\; margin: 0px 0px 1.8em\; overflow-wrap: break-word\; color: rgba(28\, 28\, 28\, 0.8)\; white-space: pre-wrap\;">Ordinary school pictures- out!</p>\n\n<p style="font-family: proxima-nova\; font-size: 14px\; line-height: 1.8em\; margin: 0px 0px 1.8em\; overflow-wrap: break-word\; color: rgba(28\, 28\, 28\, 0.8)\; white-space: pre-wrap\;">Quality\, special school pictures with the Calotype touch- in!</p>\n\n<p style="font-family: proxima-nova\; font-size: 14px\; line-height: 1.8em\; margin: 0px 0px 1.8em\; overflow-wrap: break-word\; color: rgba(28\, 28\, 28\, 0.8)\; white-space: pre-wrap\;">It&rsquo\;s the same package we do every year:</p>\n\n<p style="font-family: proxima-nova\; font-size: 14px\; line-height: 1.8em\; margin: 0px 0px 1.8em\; overflow-wrap: break-word\; color: rgba(28\, 28\, 28\, 0.8)\; white-space: pre-wrap\;"><strong style="overflow-wrap: break-word\;">One 8x10&rdquo\; print\, 2-5x7&rdquo\; prints\, 2-4x6&rdquo\; prints\, and 8 wallets</strong> (all one pose). From what you tell us\, this assortment provides most everything you need for yourself and family. We&rsquo\;ll take a few different pictures\, and you get to choose right away which image you want for your package.</p>\n\n<p style="font-family: proxima-nova\; font-size: 14px\; line-height: 1.8em\; margin: 0px 0px 1.8em\; overflow-wrap: break-word\; color: rgba(28\, 28\, 28\, 0.8)\; white-space: pre-wrap\;">It&rsquo\;s just one child at a time- no siblings together. We have the whole studio at our disposal\, so have your child wear whatever they want. We&rsquo\;ll find a backdrop to match!</p>\n\n<p style="font-family: proxima-nova\; font-size: 14px\; line-height: 1.8em\; margin: 0px 0px 1.8em\; overflow-wrap: break-word\; color: rgba(28\, 28\, 28\, 0.8)\; white-space: pre-wrap\;"><strong style="overflow-wrap: break-word\;">THERE&rsquo\;S NO AGE LIMIT- as long as a child can sit by themselves\, they are not too young (or too old!)</strong></p>\n\n<p style="font-family: proxima-nova\; font-size: 14px\; line-height: 1.8em\; margin: 0px 0px 1.8em\; overflow-wrap: break-word\; color: rgba(28\, 28\, 28\, 0.8)\; white-space: pre-wrap\;">Cost is $50 plus tax\, paid that day.</p>\n\n<p style="font-family: proxima-nova\; font-size: 14px\; line-height: 1.8em\; margin: 0px\; overflow-wrap: break-word\; color: rgba(28\, 28\, 28\, 0.8)\; white-space: pre-wrap\;">Call the studio at 417-658-8865 to book\, or <a href="https://3727.17hats.com/p#/lcf/bgwhncsswwdstnwvkzzhxhgtnsnfnhrt">fill out this form to request a spot.</a><br />\n<br />\n<a href="https://www.calotype-photography.com/events/2019/8/8/the-calotype-school-picture-event">www.calotype-photography.com</a></p>\n
LOCATION:Calotype Photography127 E. Main St. Neosho\, MO 64850
UID:e.2144.2654
SEQUENCE:3
DTSTAMP:20260421T085312Z
URL:https://neoshocc.com/events/details/annual-school-picture-event-calotype-photography-2654
END:VEVENT

END:VCALENDAR
