BEGIN:VCALENDAR
VERSION:2.0
PRODID:-//ChamberMaster//Event Calendar 2.0//EN
METHOD:PUBLISH
X-PUBLISHED-TTL:P3D
REFRESH-INTERVAL:P3D
CALSCALE:GREGORIAN
BEGIN:VEVENT
DTSTART;VALUE=DATE:20150313
DTEND;VALUE=DATE:20150314
TRANSP:TRANSPARENT
X-MICROSOFT-CDO-ALLDAYEVENT:TRUE
SUMMARY:Annual Potato Soup Fundraiser - Neosho United Methodist Church
DESCRIPTION:Annual Potato Soup Fundraiser\n\nThe Neosho United Methodist Men invite everyone to join us for our Annual Potato Soup Fundraiser on Friday\, March 13th\, in the Neosho downtown Methodist Church basement. There will also be a room set up upstairs for those who cannot navigate the stairs to the basement. We will serve lunch from 11 a.m. to 1 p.m. & dinner from 5- 7 p.m. Tickets are $4.00 per adult and $2.00 per child.  Take outs & deliveries are available. Tickets can be purchased from Methodist Men\, the church office or at the door. You can contact the church office at 451-2310. The meal includes our FAMOUS POTATO SOUP\, a drink & dessert. Proceeds go to the Society of Saint Andrew's "Feed the Hungry Program" and our Neosho United Methodist Men mission projects.
X-ALT-DESC;FMTTYPE=text/html:<span style="font-family: arial black\,sans-serif\;"><span style="font-size: medium\;">Annual Potato Soup Fundraiser</span></span><br />\n<span style="font-family: arial\,sans-serif\;"><span style="font-size: medium\;">The Neosho United Methodist Men invite everyone to join us for our Annual Potato Soup Fundraiser on Friday\, March 13</span><sup><span style="font-size: small\;">th</span></sup><span style="font-size: medium\;">\, in the Neosho downtown Methodist Church basement. There will also be a room set up upstairs for those who cannot navigate the stairs to the basement. We will serve lunch from 11 a.m. to 1 p.m. &amp\; dinner from 5- 7 p.m. Tickets are $4.00 per adult and $2.00 per child.</span>&nbsp\; <span style="font-size: medium\;">Take outs &amp\; deliveries are available. Tickets can be purchased from Methodist Men\, the church office or at the door. You can contact the church office at 451-2310. The meal includes our FAMOUS POTATO SOUP\, a drink &amp\; dessert. </span><a name="_GoBack"></a><span style="font-size: medium\;">Proceeds go to the Society of Saint Andrew&rsquo\;s &ldquo\;Feed the Hungry Program&rdquo\; and our Neosho United Methodist Men mission projects.</span></span><br />\n&nbsp\;
LOCATION:Neosho United Methodist Church (Downtown) Neosho\, Mo 64850
UID:e.2144.149
SEQUENCE:3
DTSTAMP:20260422T073634Z
URL:https://neoshocc.com/events/details/annual-potato-soup-fundraiser-neosho-united-methodist-church-03-13-2015-149
END:VEVENT

END:VCALENDAR
