BEGIN:VCALENDAR
VERSION:2.0
PRODID:-//ChamberMaster//Event Calendar 2.0//EN
METHOD:PUBLISH
X-PUBLISHED-TTL:P3D
REFRESH-INTERVAL:P3D
CALSCALE:GREGORIAN
BEGIN:VEVENT
DTSTART;VALUE=DATE:20260424
DTEND;VALUE=DATE:20260426
TRANSP:TRANSPARENT
X-MICROSOFT-CDO-ALLDAYEVENT:TRUE
SUMMARY:Annual FFA Plant Sale
DESCRIPTION:Join us fir the Annual FFA Plant Sale at the Ag. Center located on the JH Campus. \n\nAll items in the greenhouse are sold on a first come\, first served basis. \n\n\n\nWe will have a great selection of vegetable plants\, bedding plants\, flowering baskets\, ferns\, foliage baskets\, and succulents. \n\n\n\nFriday\, April 24th 4PM-6:30PM\n\nSaturday\, April 25th 9AM-2PM or Sold Out. \n\n\n\nNSD Agricultural Center\n\n14640 Kodiak Road \n\nNeosho\, MO.
X-ALT-DESC;FMTTYPE=text/html:<p>Join us fir the Annual FFA Plant Sale at the Ag. Center located on the JH Campus.&nbsp\;</p>\n\n<p>All items in the greenhouse are sold on a first come\, first served basis.&nbsp\;<br />\n<br />\nWe will have a great selection of vegetable plants\, bedding plants\, flowering baskets\, ferns\, foliage baskets\, and succulents.&nbsp\;<br />\n<br />\nFriday\, April 24th 4PM-6:30PM<br />\nSaturday\, April 25th 9AM-2PM or Sold Out.&nbsp\;<br />\n<br />\nNSD Agricultural Center<br />\n14640 Kodiak Road&nbsp\;<br />\nNeosho\, MO.&nbsp\;<br />\n<br />\n&nbsp\;</p>\n
LOCATION:NSD Agricultural Center 14640 Kodiak Road Neosho\, MO.
UID:e.2144.19741
SEQUENCE:3
DTSTAMP:20260420T030407Z
URL:https://neoshocc.com/events/details/annual-ffa-plant-sale-19741
END:VEVENT

END:VCALENDAR
