BEGIN:VCALENDAR
VERSION:2.0
PRODID:-//ChamberMaster//Event Calendar 2.0//EN
METHOD:PUBLISH
X-PUBLISHED-TTL:P3D
REFRESH-INTERVAL:P3D
CALSCALE:GREGORIAN
BEGIN:VEVENT
DTSTART;VALUE=DATE:20241210
DTEND;VALUE=DATE:20241211
TRANSP:TRANSPARENT
X-MICROSOFT-CDO-ALLDAYEVENT:TRUE
SUMMARY:Annual Christmas Shoe & Sock Drive for Kids
DESCRIPTION:This year we are teaming up with Bright Futures of Neosho\, Mo to support our local school district that has kids in need of shoes and socks. If you\, your business\, or church would like to help out we would greatly appreciate it. You can donate by purchasing a gift card\, or you can pick a stocking and shop for the child in store. \n\n\n\nIf you need help\, our team is here for you! \n\n\n\nThank you for your donation!
X-ALT-DESC;FMTTYPE=text/html:This year we are teaming up with Bright Futures of Neosho\, Mo to support our local school district that has kids in need of shoes and socks. If you\, your business\, or church would like to help out we would greatly appreciate it. You can donate by purchasing a gift card\, or you can pick a stocking and shop for the child in store.&nbsp\;<br />\n<br />\nIf you need help\, our team is here for you!&nbsp\;<br />\n<br />\nThank you for your donation!&nbsp\;
LOCATION:Shoe Sensation 1166 S. Neosho Blvd Neosho\, Mo.
UID:e.2144.14167
SEQUENCE:3
DTSTAMP:20260421T115021Z
URL:https://neoshocc.com/events/details/annual-christmas-shoe-sock-drive-for-kids-14167
END:VEVENT

END:VCALENDAR
