BEGIN:VCALENDAR
VERSION:2.0
PRODID:-//ChamberMaster//Event Calendar 2.0//EN
METHOD:PUBLISH
X-PUBLISHED-TTL:P3D
REFRESH-INTERVAL:P3D
CALSCALE:GREGORIAN
BEGIN:VEVENT
DTSTART:20211118T233000Z
DTEND:20211119T030000Z
X-MICROSOFT-CDO-ALLDAYEVENT:FALSE
SUMMARY:Annual Chamber Banquet 2021
DESCRIPTION:The Neosho Area Chamber of Commerce requests the pleasure of your company at the NACC's Annual Banquet\, presented in partnership with Certified Express\, Inc.\n\n\n\nPremier Tables on Sale Starting Monday\, Sept 27th.\n\nIndividual Tickets go on sale Wednesday\, September 29th at 10 am.\n\nTables will seat 10 guests.\n\n\n\n5:30pm - Social Hour with Appetizers\, Cash Bar and Silent Auction \n\n7:00pm - Dinner Catered by Indigo Sky\n\n7:30pm - Programming and Awards\n\n\n\nCocktail attire requested.
X-ALT-DESC;FMTTYPE=text/html:<span style="font-size:16px\;"><span style="font-family:times new roman\;">The Neosho Area Chamber of Commerce requests the pleasure of your company at the NACC&#39\;s Annual Banquet\, presented in partnership with <em>Certified Express\, Inc</em>.<br />\n<br />\nPremier Tables on Sale Starting Monday\, Sept 27th.<br />\nIndividual Tickets go on sale Wednesday\, September 29th at 10 am.<br />\nTables will seat 10 guests.<br />\n<br />\n5:30pm -&nbsp\;Social Hour with Appetizers\, Cash Bar and Silent Auction&nbsp\;<br />\n7:00pm -&nbsp\;Dinner Catered by Indigo Sky<br />\n7:30pm -&nbsp\;Programming and Awards<br />\n<br />\nCocktail attire requested.</span></span>
LOCATION:Sycamore Tower Event Center at Indigo Sky Resort
UID:e.2144.7665
SEQUENCE:3
DTSTAMP:20260424T002223Z
URL:https://neoshocc.com/events/details/annual-chamber-banquet-2021-7665
END:VEVENT

END:VCALENDAR
