BEGIN:VCALENDAR
VERSION:2.0
PRODID:-//ChamberMaster//Event Calendar 2.0//EN
METHOD:PUBLISH
X-PUBLISHED-TTL:P3D
REFRESH-INTERVAL:P3D
CALSCALE:GREGORIAN
BEGIN:VEVENT
DTSTART:20220617T000000Z
DTEND:20220618T190000Z
X-MICROSOFT-CDO-ALLDAYEVENT:FALSE
SUMMARY:Annie Jr. presented by Crowder College Theatre
DESCRIPTION:Crowder College Theatre presents Annie Jr. (G) June 16 & 17 (7pm) June 18 (10am & 2pm Saturday) at the Elsie Plaster Community Center (601 Laclede Ave.\, Neosho\, MO 64850). Reserve tickets at CrowderBookstore.com/Events or call 417.455.5678. (Adults $12\, Children $8)\n\n\n\nBased on the popular comic strip and adapted from the Tony Award-winning Best Musical\, with a beloved book and score by Tony Award winners\, Thomas Meehan\, Charles Strouse and Martin Charnin\, Annie JR. features everyone's favorite little redhead in her very first adventure.
X-ALT-DESC;FMTTYPE=text/html:Crowder College Theatre presents&nbsp\;<em>Annie Jr</em>. (G) June 16 &amp\; 17 (7pm) June 18 (10am &amp\; 2pm Saturday) at the Elsie Plaster Community Center (601 Laclede Ave.\, Neosho\, MO 64850). Reserve tickets at <a href="http://CrowderBookstore.com/Events">CrowderBookstore.com/Events</a>&nbsp\;or call 417.455.5678. (Adults $12\, Children $8)<br />\n<br />\nBased on the popular comic strip and adapted from the Tony Award-winning Best Musical\, with a beloved book and score by Tony Award winners\, Thomas Meehan\, Charles Strouse and Martin Charnin\, Annie JR. features everyone&rsquo\;s favorite little redhead in her very first adventure.
LOCATION:Crowder College Elsie Plaster Community Center (601 Laclede Ave.\, Neosho\, MO 64850)
UID:e.2144.8339
SEQUENCE:3
DTSTAMP:20260424T104718Z
URL:https://neoshocc.com/events/details/annie-jr-presented-by-crowder-college-theatre-8339
END:VEVENT

END:VCALENDAR
