BEGIN:VCALENDAR
VERSION:2.0
PRODID:-//ChamberMaster//Event Calendar 2.0//EN
METHOD:PUBLISH
X-PUBLISHED-TTL:P3D
REFRESH-INTERVAL:P3D
CALSCALE:GREGORIAN
BEGIN:VEVENT
DTSTART:20220502T220000Z
DTEND:20220504T000000Z
X-MICROSOFT-CDO-ALLDAYEVENT:FALSE
SUMMARY:Annie Jr. Auditions present by Crowder College Theatre
DESCRIPTION:Calling actors 7 years old and older! Crowder College Theatre is hosting auditions for Annie Jr. May 2 & 3 from 5pm - 7pm. Actors should prepare a 1 minute monologue and song of choice. Auditions are located in the Elsie Plaster Community Center\, Room 124. Younger actors may attend for practice. \n\n\n\nBased on the popular comic strip and adapted from the Tony Award-winning Best Musical\, with a beloved book and score by Tony Award winners\, Thomas Meehan\, Charles Strouse and Martin Charnin\, Annie JR. features everyone's favorite little redhead in her very first adventure.
X-ALT-DESC;FMTTYPE=text/html:Calling actors 7 years old and older! Crowder College Theatre is hosting auditions for <em>Annie Jr</em>. May 2 &amp\; 3 from 5pm - 7pm. Actors should prepare a 1 minute monologue and song of choice. Auditions are located in the Elsie Plaster Community Center\, Room 124. Younger actors may attend for practice.&nbsp\;<br />\n<br />\nBased on the popular comic strip and adapted from the Tony Award-winning Best Musical\, with a beloved book and score by Tony Award winners\, Thomas Meehan\, Charles Strouse and Martin Charnin\, Annie JR. features everyone&rsquo\;s favorite little redhead in her very first adventure.
LOCATION:Elsie Plaster Community Center\, Room 124 Crowder College 601 Laclede Ave.\, Neosho\, MO 64850
UID:e.2144.8267
SEQUENCE:3
DTSTAMP:20260424T074024Z
URL:https://neoshocc.com/events/details/annie-jr-auditions-present-by-crowder-college-theatre-8267
END:VEVENT

END:VCALENDAR
