BEGIN:VCALENDAR
VERSION:2.0
PRODID:-//ChamberMaster//Event Calendar 2.0//EN
METHOD:PUBLISH
X-PUBLISHED-TTL:P3D
REFRESH-INTERVAL:P3D
CALSCALE:GREGORIAN
BEGIN:VEVENT
DTSTART:20231202T010000Z
DTEND:20231202T030000Z
X-MICROSOFT-CDO-ALLDAYEVENT:FALSE
SUMMARY:An Evening in Kringle City
DESCRIPTION:Kringle City! Capital of the North Pole\, the crowning jewel of Planet Earth\, fixed like a beacon of light bringing warmth and comfort\, even in the heart of one of the world's most inhospitable places. This wondrous\, magical\, and mysterious city is home to Santa Claus and his mystical elves\, where they conduct the biggest gift-making operation in the world. And now\, Santa Claus himself is bringing Kringle City to Joplin. An Evening in Kringle City is a night of joyful and heartwarming holiday entertainment filled with music and laughter\, excitement and fun\, warm and sentimental moments\, all delightfully carried along by Santa himself. Listen as Santa explains his origins\, tells you his tales\, and present an exciting\, heartwarming Christmas story that will fill you with Christmas cheer and send you home with a heart full of joy\, peace\, and love. Best for ages 6 and up.
X-ALT-DESC;FMTTYPE=text/html:Kringle City! Capital of the North Pole\, the crowning jewel of Planet Earth\, fixed like a beacon of light bringing warmth and comfort\, even in the heart of one of the world&rsquo\;s most inhospitable places. This wondrous\, magical\, and mysterious city is home to Santa Claus and his mystical elves\, where they conduct the biggest gift-making operation in the world. And now\, Santa Claus himself is bringing Kringle City to Joplin. An Evening in Kringle City is a night of joyful and heartwarming holiday entertainment filled with music and laughter\, excitement and fun\, warm and sentimental moments\, all delightfully carried along by Santa himself. Listen as Santa explains his origins\, tells you his tales\, and present an exciting\, heartwarming Christmas story that will fill you with Christmas cheer and send you home with a heart full of joy\, peace\, and love. Best for ages 6 and up.
LOCATION:Harry M. Cornell Arts & Entertainment Complex located at 212 West 7th Street Joplin\, MO 64801
UID:e.2144.10790
SEQUENCE:3
DTSTAMP:20260425T104225Z
URL:https://neoshocc.com/events/details/an-evening-in-kringle-city-10790
END:VEVENT

END:VCALENDAR
