BEGIN:VCALENDAR
VERSION:2.0
PRODID:-//ChamberMaster//Event Calendar 2.0//EN
METHOD:PUBLISH
X-PUBLISHED-TTL:P3D
REFRESH-INTERVAL:P3D
CALSCALE:GREGORIAN
BEGIN:VEVENT
DTSTART:20250503T190000Z
DTEND:20250503T230000Z
X-MICROSOFT-CDO-ALLDAYEVENT:FALSE
SUMMARY:AN AFTERNOON AT THE RACES
DESCRIPTION:AN AFTERNOON AT THE RACES IS THE SIGNAUTE FUNDRAISING EVENT FOR THE ALLAINCE OF SWMO. THE EVENT INCLUDES: Simulated Horse Races\, Heads or Tails Coin Toss\, "Churchill Crowns" Hat Bar\, Cash Bar\, Mint Julep Station\, Silent Auction\, Hors D'oeuvres\, Raffle\, AND A Live Kentucky Derby Viewing
X-ALT-DESC;FMTTYPE=text/html:AN AFTERNOON AT THE RACES IS THE SIGNAUTE FUNDRAISING EVENT FOR THE ALLAINCE OF SWMO. THE EVENT INCLUDES: Simulated Horse Races\, Heads or Tails Coin Toss\, &quot\;Churchill Crowns&quot\; Hat Bar\, Cash Bar\, Mint Julep Station\, Silent Auction\, Hors D&#39\;oeuvres\, Raffle\, AND A Live Kentucky Derby Viewing
LOCATION:THE STERLING EVENT CENTER AT 4975 E ZORA JOPLIN MO 64801
UID:e.2144.16382
SEQUENCE:3
DTSTAMP:20260422T085535Z
URL:https://neoshocc.com/events/details/an-afternoon-at-the-races-05-03-2025-16382
END:VEVENT

END:VCALENDAR
