BEGIN:VCALENDAR
VERSION:2.0
PRODID:-//ChamberMaster//Event Calendar 2.0//EN
METHOD:PUBLISH
X-PUBLISHED-TTL:P3D
REFRESH-INTERVAL:P3D
CALSCALE:GREGORIAN
BEGIN:VEVENT
DTSTART:20150324T153000Z
DTEND:20150324T170000Z
X-MICROSOFT-CDO-ALLDAYEVENT:FALSE
SUMMARY:American Job Center Neosho - Open House & Ribbon Cutting
DESCRIPTION:American Job Center Opening Neosho Location\n\nMissouri's newest affiliate of the American Job Center opens in March at 1110 W. Harmony\, Suite C in Neosho. The new location on Harmony\, which is also Missouri Highway 86\, provides stronger visibility in the commercial sector of northwest Neosho. Along with more space to serve customers\, the new AJC features a dedicated computer training lab for routine testing of the National Career Readiness Certificate\, local workshops\, and employer recruitment events.\n\nFueled by growth in manufacturing and transportation\, continued momentum of nearby Northwest Arkansas\, and a new multi-modal logistics hub under development at Neosho\, demand is on the rise for Newton and McDonald Counties. The Workforce Investment Board seized an opportunity to expand the small office currently housing the VOICES Youth Program in close proximity to the main campus of Crowder College.
X-ALT-DESC;FMTTYPE=text/html:<span style="color: rgb(255\, 0\, 0)\;"><span style="font-weight: bold\; language: en-US\;"><span style="font-size: 18pt\;"><span style="font-family: lucida sans\;"><span style="font-size: 12px\;">American Job Center Opening Neosho Location</span></span></span></span></span><br />\n<span style="font-size: 12px\;"><span style="color: rgb(0\, 0\, 255)\;"><span style="text-transform: none\; font-style: normal\; font-variant: normal\; font-weight: bold\; vertical-align: baseline\; language: en-US\;"><span style="font-family: calibri\;">Missouri&rsquo\;s newest affiliate of the American Job Center opens in March&nbsp\;at </span></span></span><span style="text-transform: none\; font-style: normal\; font-variant: normal\; font-weight: bold\; vertical-align: baseline\; language: en-US\;"><span style="font-family: calibri\;"><a href="https://goo.gl/maps/GWBDO"><span style="color: rgb(0\, 0\, 255)\;">1110 W. Harmony\, Suite C in Neosho</span></a></span></span><span style="color: rgb(0\, 0\, 255)\;"><span style="text-transform: none\; font-style: normal\; font-variant: normal\; font-weight: bold\; vertical-align: baseline\; language: en-US\;"><span style="font-family: calibri\;">. The new location on Harmony\, which is also Missouri Highway 86\, provides stronger visibility in the commercial sector of northwest Neosho. Along with more space to serve customers\, the new AJC features a dedicated computer training lab for routine testing of the National Career Readiness Certificate\, local workshops\, and employer recruitment events.</span></span><br />\n<span style="text-transform: none\; font-style: normal\; font-variant: normal\; font-weight: bold\; vertical-align: baseline\; language: en-US\;"><span style="font-family: calibri\;">Fueled by growth in manufacturing and transportation\, continued momentum of nearby Northwest Arkansas\, and a new multi-modal logistics hub under development at Neosho\, demand is on the rise for Newton and McDonald Counties. The Workforce Investment Board&nbsp\;seized an opportunity to expand the small office currently housing the VOICES Youth Program in close proximity to the main campus of Crowder College.</span></span></span></span><br />\n<br />\n&nbsp\;
LOCATION:1110 W. Harmony\, Suite C Neosho\, MO
UID:e.2144.152
SEQUENCE:3
DTSTAMP:20260422T073705Z
URL:https://neoshocc.com/events/details/american-job-center-neosho-open-house-ribbon-cutting-03-24-2015-152
END:VEVENT

END:VCALENDAR
