BEGIN:VCALENDAR
VERSION:2.0
PRODID:-//ChamberMaster//Event Calendar 2.0//EN
METHOD:PUBLISH
X-PUBLISHED-TTL:P3D
REFRESH-INTERVAL:P3D
CALSCALE:GREGORIAN
BEGIN:VEVENT
DTSTART:20160331T203000Z
DTEND:20160401T003000Z
X-MICROSOFT-CDO-ALLDAYEVENT:FALSE
SUMMARY:Alive at 25
DESCRIPTION:Do you have a child in high school that is driving or getting ready to drive?  Neosho High School and Mercy Hospital have partnered up for a defensive driving course call Alive at 25.
X-ALT-DESC;FMTTYPE=text/html:Do you have a child in high school that is driving or getting ready to drive?&nbsp\; Neosho High School and Mercy Hospital have partnered up for a defensive driving course call Alive at 25.
LOCATION:To sign up go to www.mercy.net/alive-at-25
UID:e.2144.1591
SEQUENCE:3
DTSTAMP:20260421T114719Z
URL:https://neoshocc.com/events/details/alive-at-25-03-31-2016-1591
END:VEVENT

END:VCALENDAR
