BEGIN:VCALENDAR
VERSION:2.0
PRODID:-//ChamberMaster//Event Calendar 2.0//EN
METHOD:PUBLISH
X-PUBLISHED-TTL:P3D
REFRESH-INTERVAL:P3D
CALSCALE:GREGORIAN
BEGIN:VEVENT
DTSTART:20160305T140000Z
DTEND:20160305T180000Z
X-MICROSOFT-CDO-ALLDAYEVENT:FALSE
SUMMARY:Alive at 25
DESCRIPTION:Do you have a child in high school getting ready to drive or already driving?  Neosho High School and Mercy Hospital have partnered up for a defensive driving class called Alive at 25.
X-ALT-DESC;FMTTYPE=text/html:Do you have a child in high school getting ready to drive or already driving?&nbsp\; Neosho High School and Mercy Hospital have partnered up for a defensive driving class called Alive at 25.
LOCATION:To sign up go to www.mercy.net/alive-at-25
UID:e.2144.1590
SEQUENCE:3
DTSTAMP:20260421T114720Z
URL:https://neoshocc.com/events/details/alive-at-25-03-05-2016-1590
END:VEVENT

END:VCALENDAR
