BEGIN:VCALENDAR
VERSION:2.0
PRODID:-//ChamberMaster//Event Calendar 2.0//EN
METHOD:PUBLISH
X-PUBLISHED-TTL:P3D
REFRESH-INTERVAL:P3D
CALSCALE:GREGORIAN
BEGIN:VEVENT
DTSTART:20211022T003000Z
DTEND:20211023T190000Z
X-MICROSOFT-CDO-ALLDAYEVENT:FALSE
SUMMARY:Agatha Christie's Murder on the Orient Express presented by Crowder College Theatre
DESCRIPTION:Crowder College Theatre presents Agatha Christie's Murder on the Orient Express (adapted by Ken Ludwig and directed by NaTasha O'Brien-Davies) October 21-23 at 7:30pm nightly with a 2pm Saturday matinee. Ticket reservations can be made by calling 417.455.5458. This production is rated PG.
X-ALT-DESC;FMTTYPE=text/html:Crowder College Theatre presents Agatha Christie&#39\;s Murder on the Orient Express (adapted by Ken Ludwig and directed by NaTasha O&#39\;Brien-Davies) October 21-23 at 7:30pm nightly with a 2pm Saturday matinee. Ticket reservations can be made by calling 417.455.5458. This production is rated PG.
LOCATION:Elsie Plaster Community Center\, Crowder College 601 Laclede Ave.\, Neosho\, MO 64850
UID:e.2144.7891
SEQUENCE:3
DTSTAMP:20260423T211032Z
URL:https://neoshocc.com/events/details/agatha-christie-s-murder-on-the-orient-express-presented-by-crowder-college-theatre-7891
END:VEVENT

END:VCALENDAR
